BEGIN:VCALENDAR
VERSION:2.0
PRODID:-//ChamberMaster//Event Calendar 2.0//EN
METHOD:PUBLISH
X-PUBLISHED-TTL:P3D
REFRESH-INTERVAL:P3D
CALSCALE:GREGORIAN
BEGIN:VEVENT
DTSTART:20110222T170000Z
DTEND:20110222T193000Z
X-MICROSOFT-CDO-ALLDAYEVENT:FALSE
SUMMARY:Ipexus Graphics - Print Shop Drawing At Economic Outlook Luncheon
DESCRIPTION:Ipexus Graphics - Print Shop will have a table display this year and would like to invite you to stop by our table and submit your business card for our "Give A Way" drawing.\n\n\n\n13oz. Matte Vinyl Banner\n\nStand Included\n\n2ft. x 5ft.\n\nGraphic Design Included\n\n\n\nGreat for your office or Expo Events.\n\nLook forward to seeing you.
X-ALT-DESC;FMTTYPE=text/html:Ipexus Graphics - Print Shop will have a table display this year and would like to invite you to stop by our table and submit your business card for our "Give A Way" drawing.\n<br>\n<br>13oz. Matte Vinyl Banner\n<br>Stand Included\n<br>2ft. x 5ft.\n<br>Graphic Design Included\n<br>\n<br>Great for your office or Expo Events.\n<br>Look forward to seeing you.
LOCATION:Ashton Place 341 W. 75th Street Willowbrook\, IL 60527
UID:e.333.3701
SEQUENCE:3
DTSTAMP:20260425T234006Z
URL:https://chambermaster.elmhurstchamber.org/events/details/ipexus-graphics-print-shop-drawing-at-economic-outlook-luncheon-02-22-2011-3701
END:VEVENT

END:VCALENDAR
