BEGIN:VCALENDAR
VERSION:2.0
PRODID:-//ChamberMaster//Event Calendar 2.0//EN
METHOD:PUBLISH
X-PUBLISHED-TTL:P3D
REFRESH-INTERVAL:P3D
CALSCALE:GREGORIAN
BEGIN:VEVENT
DTSTART:20110406T230000Z
DTEND:20110407T040000Z
X-MICROSOFT-CDO-ALLDAYEVENT:FALSE
SUMMARY:Japan Tsunami Relief Fundraiser
DESCRIPTION:Earthquake\, tsunami\, and nuclear crisis.  The people of Japan are experiencing harrowing times.  By now we have all seen the shocking images and heard many painful stories of loss and destruction.\n\n\n\nYou can help.\n\n\n\nPlease join us to raise money for disaster relief for Japan at Flight 112 Wine House.  Flight 112 will have live music and is offering their craft beers for 1/2 off\, as well as a $5 wine selection for those who donate to the cause.\n\n\n\nAll proceeds will go to Salvation Army World Service's Response to Japan.  If you would like your donation to be tax deductible\, please remember to bring your checkbook to make a tax deductible donation directly to Salvation Army World Service.\n\n\n\nWe hope to see you there!
X-ALT-DESC;FMTTYPE=text/html:<br />\nEarthquake\, tsunami\, and nuclear crisis. &nbsp\;The people of Japan are experiencing harrowing times.&nbsp\; By now we have all seen the shocking images and heard many painful stories of loss and destruction.<br />\n<br />\nYou can help.<br />\n<br />\nPlease join us to raise money for disaster relief for Japan at Flight 112 Wine House. &nbsp\;Flight 112 will have live music and is offering their craft beers for 1/2 off\, as well as a $5 wine selection for those who donate to the cause.<br />\n<br />\nAll proceeds will go to Salvation Army World Service&#39\;s Response to Japan.&nbsp\; If you would like your donation to be tax deductible\, please remember to bring your checkbook to make a tax deductible donation directly to Salvation Army World Service.<br />\n<br />\nWe hope to see you there!
LOCATION:Flight 112 Wine House 112 West Park Avenue\, Elmhurst\, Illinois 60126
UID:e.333.4145
SEQUENCE:3
DTSTAMP:20260425T204748Z
URL:https://chambermaster.elmhurstchamber.org/events/details/japan-tsunami-relief-fundraiser-04-06-2011-4145
END:VEVENT

END:VCALENDAR
