BEGIN:VCALENDAR
VERSION:2.0
PRODID:-//ChamberMaster//Event Calendar 2.0//EN
METHOD:PUBLISH
X-PUBLISHED-TTL:P3D
REFRESH-INTERVAL:P3D
CALSCALE:GREGORIAN
BEGIN:VEVENT
DTSTART:20110417T200000Z
DTEND:20110417T220000Z
X-MICROSOFT-CDO-ALLDAYEVENT:FALSE
SUMMARY:Jenny Riddle in Concert
DESCRIPTION:Elmhurst favorite Jenny Riddle will be joined by Jeffrey Panko in an afternoon of song and story to complete the 12th season of the Music at Bethel concert series.  Ms. Riddle will be performing a Cabaret Show of songs along a story line following her own journey through life.  The concert is on Sunday\, April 17\, at 3 pm.\, presented in the acoustically pleasing sanctuary of Bethel United Church of Christ\, 315 East St. Charles Road in Elmhurst.\n\n\n\nThe songs being presented range from "I've Got the Sun in the Morning" from the show Annie Get Your Gun to "Big Spender" and "I'll Never Fall in Love Again".\n\n\n\nFor more information\, contact Bethel United Church of Christ at (630) 279-4040 or visit their website. www.bethel-ucc.org.
X-ALT-DESC;FMTTYPE=text/html:<br />\nElmhurst favorite Jenny Riddle will be joined by Jeffrey Panko in an afternoon of song and story to complete the 12th season of the Music at Bethel concert series.&nbsp\; Ms. Riddle will be performing a Cabaret Show of songs along a story line following her own journey through life.&nbsp\; The concert is on Sunday\, April 17\, at 3 pm.\, presented in the acoustically pleasing sanctuary of Bethel United Church of Christ\, 315 East St. Charles Road in Elmhurst.<br />\n<br />\nThe songs being presented range from &quot\;I&#39\;ve Got the Sun in the Morning&quot\; from the show Annie Get Your Gun to &quot\;Big Spender&quot\; and &quot\;I&#39\;ll Never Fall in Love Again&quot\;.<br />\n<br />\nFor more information\, contact Bethel United Church of Christ at (630) 279-4040 or visit their website. <a href="http://www.bethel-ucc.org">www.bethel-ucc.org</a>.
LOCATION:Bethel United Church of Christ 315 E St. Charles Road Elmhurst\, IL 60126
UID:e.333.4146
SEQUENCE:3
DTSTAMP:20260425T204748Z
URL:https://chambermaster.elmhurstchamber.org/events/details/jenny-riddle-in-concert-04-17-2011-4146
END:VEVENT

END:VCALENDAR
