BEGIN:VCALENDAR
VERSION:2.0
PRODID:-//ChamberMaster//Event Calendar 2.0//EN
METHOD:PUBLISH
X-PUBLISHED-TTL:P3D
REFRESH-INTERVAL:P3D
CALSCALE:GREGORIAN
BEGIN:VEVENT
DTSTART:20131019T190000Z
DTEND:20131019T200000Z
X-MICROSOFT-CDO-ALLDAYEVENT:FALSE
SUMMARY:Jewelry Trend: "Steampunk"
DESCRIPTION:Visiting artist\, Jill Buckingham presents the current Steampunk fashion in jewelry design. Learn what influenced this retro-Edwardian trend including literature\, film and artists. See how Steampunk is used in jewelry design and where to see more of it. The lecture includes a discussion on how artists can use fashion trends in jewelry. Lecture - Youth to Adult - 60 minutes - Regular Museum Admission - Reservations Recommended.
X-ALT-DESC;FMTTYPE=text/html:Visiting artist\, Jill Buckingham presents the current Steampunk fashion in jewelry design. Learn what influenced this retro-Edwardian trend including literature\, film and artists. See how Steampunk is used in jewelry design and where to see more of it. The lecture includes a discussion on how artists can use fashion trends in jewelry. Lecture&nbsp\;- Youth to Adult -&nbsp\;60 minutes&nbsp\;-&nbsp\;Regular Museum Admission&nbsp\;- Reservations Recommended. 
LOCATION:Lizzadro Museum of Lapidary Art 220 Cottage Hill Ave.\, Elmhurst
UID:e.333.5860
SEQUENCE:3
DTSTAMP:20260422T112358Z
URL:https://chambermaster.elmhurstchamber.org/events/details/jewelry-trend-steampunk-10-19-2013-5860
END:VEVENT

END:VCALENDAR
