BEGIN:VCALENDAR
VERSION:2.0
PRODID:-//ChamberMaster//Event Calendar 2.0//EN
METHOD:PUBLISH
X-PUBLISHED-TTL:P3D
REFRESH-INTERVAL:P3D
CALSCALE:GREGORIAN
BEGIN:VEVENT
DTSTART:20130609T130000Z
DTEND:20130609T170000Z
X-MICROSOFT-CDO-ALLDAYEVENT:FALSE
SUMMARY:Just for Kids Fishing Derby
DESCRIPTION:Each June more then 500 children ages 15 and under participate in this free\, familiy-friendly program\, which includes fishing-elated contests with prices. They are currently looking for prizes\, food and beverages\, goodie bag items and cash donations.
X-ALT-DESC;FMTTYPE=text/html:Each June more then 500 children ages 15 and under participate in this free\, familiy-friendly program\, which includes fishing-elated contests with prices. They are currently looking for prizes\, food and beverages\, goodie bag items and cash donations.&nbsp\;
LOCATION:Black Forest Preserve Warrenville\, IL
UID:e.333.5174
SEQUENCE:3
DTSTAMP:20260422T165049Z
URL:https://chambermaster.elmhurstchamber.org/events/details/just-for-kids-fishing-derby-06-09-2013-5174
END:VEVENT

END:VCALENDAR
