BEGIN:VCALENDAR
VERSION:2.0
PRODID:-//ChamberMaster//Event Calendar 2.0//EN
METHOD:PUBLISH
X-PUBLISHED-TTL:P3D
REFRESH-INTERVAL:P3D
CALSCALE:GREGORIAN
BEGIN:VEVENT
DTSTART:20110410T163000Z
DTEND:20110410T173000Z
X-MICROSOFT-CDO-ALLDAYEVENT:FALSE
SUMMARY:Kay McKeen--SCARCE
DESCRIPTION:Kay McKeen founder and executive director of DuPage County SCARCE\n\n\n\nKay will share some easy ways to make your home "greener" and healthier. In 2010\, Kay was featured on NBC Nightly News Making a Difference Segment with Brian Williams\, in the Daily Herald for green education\, and in an ABC Live Green Segment with Hosea Sanders featuring the Book Rescue Program.  As a non-for-profit organization\, SCARCE (School & Community Assistance for Recycling and Composting Education) has been recognized locally and statewide with numerous awards for its innovative environmental education programs.  We are fortunate to have Kay McKeen as speaker for our spring 2011 "Green Team" educational program for First Congregational United Church of Christ and the Elmhurst community.  Everyone is welcome.
X-ALT-DESC;FMTTYPE=text/html:Kay McKeen founder and executive director of DuPage County SCARCE<br />\n<br />\nKay will share some easy ways to make your home &quot\;greener&quot\; and healthier.&nbsp\;In 2010\, Kay was featured on NBC Nightly News Making a Difference Segment with Brian Williams\, in the Daily Herald for green education\, and in an ABC Live Green Segment with Hosea Sanders featuring the Book Rescue Program.&nbsp\; As a&nbsp\;non-for-profit organization\, SCARCE (School&nbsp\;&amp\; Community Assistance for Recycling and Composting Education) has been recognized locally and statewide with numerous awards for its innovative environmental education programs.&nbsp\; We are fortunate to have Kay McKeen as speaker for our spring 2011 &quot\;Green Team&quot\; educational program for <a href="http://chambermaster.elmhurstchamber.org/list/Member/first-congregational-church-elmhurst.htm">First Congregational United Church of Christ </a>and the Elmhurst&nbsp\;community.&nbsp\; Everyone is&nbsp\;welcome.&nbsp\; &nbsp\;
LOCATION:First Congregational U.C.C. 235 S. Kenilworth Elmhurst\, IL 60126 elmhurstucc.org
UID:e.333.4162
SEQUENCE:3
DTSTAMP:20260425T204738Z
URL:https://chambermaster.elmhurstchamber.org/events/details/kay-mckeen-scarce-04-10-2011-4162
END:VEVENT

END:VCALENDAR
