BEGIN:VCALENDAR
VERSION:2.0
PRODID:-//ChamberMaster//Event Calendar 2.0//EN
METHOD:PUBLISH
X-PUBLISHED-TTL:P3D
REFRESH-INTERVAL:P3D
CALSCALE:GREGORIAN
BEGIN:VEVENT
DTSTART:20111021T000000Z
DTEND:20111021T020000Z
X-MICROSOFT-CDO-ALLDAYEVENT:FALSE
SUMMARY:Keith & Kristyn Getty in Concert
DESCRIPTION:Join Keith and Kristyn Getty and their team for an exciting night of worship at Faith CRC on October 20th at 7:00 PM
X-ALT-DESC;FMTTYPE=text/html:Join Keith and Kristyn Getty and their team for an exciting night of worship at Faith CRC on October 20th at 7:00 PM
LOCATION:1070 S. Prospect Ave.\, Elmhurst\, IL
UID:e.333.4501
SEQUENCE:3
DTSTAMP:20260425T120014Z
URL:https://chambermaster.elmhurstchamber.org/events/details/keith-kristyn-getty-in-concert-10-20-2011-4501
END:VEVENT

END:VCALENDAR
