BEGIN:VCALENDAR
VERSION:2.0
PRODID:-//ChamberMaster//Event Calendar 2.0//EN
METHOD:PUBLISH
X-PUBLISHED-TTL:P3D
REFRESH-INTERVAL:P3D
CALSCALE:GREGORIAN
BEGIN:VEVENT
DTSTART;VALUE=DATE:20110603
DTEND;VALUE=DATE:20110604
TRANSP:TRANSPARENT
X-MICROSOFT-CDO-ALLDAYEVENT:TRUE
SUMMARY:Kick Off For Kids Golf Outing
DESCRIPTION:11th Annual Lake Geneva Golf Outing
X-ALT-DESC;FMTTYPE=text/html:11th Annual Lake Geneva Golf Outing
LOCATION:Lake Geneva\, Wis.
UID:e.333.4221
SEQUENCE:3
DTSTAMP:20260425T191419Z
URL:https://chambermaster.elmhurstchamber.org/events/details/kick-off-for-kids-golf-outing-06-03-2011-4221
END:VEVENT

END:VCALENDAR
