BEGIN:VCALENDAR
VERSION:2.0
PRODID:-//ChamberMaster//Event Calendar 2.0//EN
METHOD:PUBLISH
X-PUBLISHED-TTL:P3D
REFRESH-INTERVAL:P3D
CALSCALE:GREGORIAN
BEGIN:VEVENT
DTSTART:20131124T010000Z
DTEND:20131124T040000Z
X-MICROSOFT-CDO-ALLDAYEVENT:FALSE
SUMMARY:Kickoff for Kids 11th Annual Holiday Party
DESCRIPTION:A Casual\, Fun Night To Kickoff the Holiday Season!\n\n\n\nOnly $60 per person includes:\n\n\n	 \n\n	\n		3 hours of open bar\n	\n		Light appetizers from 7-8 pm\n	\n		Open buffet at 8:30 pm\n	\n		Live Auctions\n	\n		Wine Pulls\n\nAlthough online purchase of tickets is encouraged at www.kickoffforkids.org\, tickets will be available at the door.\n\n\n\nKickoff For Kids (KoK) is a non-profit organization that enriches the lives of all children in Elmhurst and surrounding communities through family-centered programs focusing on Health and Fitness\, Education and Community.\n\n\n\nPlease bring an unwrapped gift to this year's event in conjunction with our partnership with Toys for Tots!\n\n\n\nKickoff For Kids is a recognized 501(c)(3) organization.
X-ALT-DESC;FMTTYPE=text/html:A Casual\, Fun Night To Kickoff the Holiday Season!<br />\n<br />\nOnly $60 per person includes:<br />\n<p>\n	&nbsp\;</p>\n<ul>\n	<li>\n		3 hours of open bar</li>\n	<li>\n		Light appetizers from 7-8 pm</li>\n	<li>\n		Open buffet at 8:30 pm</li>\n	<li>\n		Live Auctions</li>\n	<li>\n		Wine Pulls</li>\n</ul>\nAlthough online purchase of tickets is encouraged at www.kickoffforkids.org\, tickets will be available at the door.<br />\n<br />\nKickoff For Kids (KoK) is a non-profit organization that enriches the lives of all children in Elmhurst and surrounding communities through family-centered programs focusing on Health and Fitness\, Education and Community.<br />\n<br />\nPlease bring an unwrapped gift to this year&#39\;s event in conjunction with our partnership with Toys for Tots!<br />\n<br />\nKickoff For Kids is a recognized 501(c)(3) organization.
LOCATION:Fitz's Spare Keys 119 N. York St. Elmhurst\, IL
UID:e.333.7576
SEQUENCE:3
DTSTAMP:20260420T123213Z
URL:https://chambermaster.elmhurstchamber.org/events/details/kickoff-for-kids-11th-annual-holiday-party-11-23-2013-7576
END:VEVENT

END:VCALENDAR
