BEGIN:VCALENDAR
VERSION:2.0
PRODID:-//ChamberMaster//Event Calendar 2.0//EN
METHOD:PUBLISH
X-PUBLISHED-TTL:P3D
REFRESH-INTERVAL:P3D
CALSCALE:GREGORIAN
BEGIN:VEVENT
DTSTART:20111113T010000Z
DTEND:20111113T040000Z
X-MICROSOFT-CDO-ALLDAYEVENT:FALSE
SUMMARY:Kickoff For Kids Holiday Party
DESCRIPTION:Celebrate this joyous season at the one and only Elmhurst Holiday Party. Your ticket entitles you to 3 hours of open bar\, several gourmet hors d' oevres and buffet stations\, live musical entertainment and silent auction.  This year's entertainment id Dr. Bombay\, one of Chicago's hottest bands.  \n\n\n\nDuring the holidays\, it is easy to get caught up in a flurry of parties\, gift-giving and other traditions.  This holiday season\, we are offering you the chance to make a difference in the lives of our community's less fortunate children and their families.  We invite you to kick up your heels with us at our 9th Annual Kickoff for Kids Holiday Party.
X-ALT-DESC;FMTTYPE=text/html:Celebrate this joyous season at the one and only Elmhurst Holiday Party. Your ticket entitles you to 3 hours of open bar\, several gourmet hors d&#39\; oevres and buffet stations\, live musical entertainment and silent auction. &nbsp\;This year&#39\;s entertainment id Dr. Bombay\, one of Chicago&#39\;s hottest bands. &nbsp\;<br />\n<br />\nDuring the holidays\, it is easy to get caught up in a flurry of parties\, gift-giving and other traditions. &nbsp\;This holiday season\, we are offering you the chance to make a difference in the lives of our community&#39\;s less fortunate children and their families. &nbsp\;We invite you to kick up your heels with us at our 9th Annual Kickoff for Kids Holiday Party.
LOCATION:River Forest Country Club
UID:e.333.4519
SEQUENCE:3
DTSTAMP:20260425T115131Z
URL:https://chambermaster.elmhurstchamber.org/events/details/kickoff-for-kids-holiday-party-11-12-2011-4519
END:VEVENT

END:VCALENDAR
