BEGIN:VCALENDAR
VERSION:2.0
PRODID:-//ChamberMaster//Event Calendar 2.0//EN
METHOD:PUBLISH
X-PUBLISHED-TTL:P3D
REFRESH-INTERVAL:P3D
CALSCALE:GREGORIAN
BEGIN:VEVENT
DTSTART;VALUE=DATE:20110916
DTEND;VALUE=DATE:20110917
TRANSP:TRANSPARENT
X-MICROSOFT-CDO-ALLDAYEVENT:TRUE
SUMMARY:Kie & Kate Couture Grand Opening
DESCRIPTION:Join us for the Ribbon Cutting Cermony of our women and children's boutique at noon at 559 Spring Road in Elmhurst. We are officially opening this weekend.
X-ALT-DESC;FMTTYPE=text/html:Join us for the Ribbon Cutting Cermony of our women and children&#39\;s boutique at noon at 559 Spring Road in Elmhurst. We are officially opening this weekend. &nbsp\;
LOCATION:559 Spring Road
UID:e.333.4494
SEQUENCE:3
DTSTAMP:20260425T145213Z
URL:https://chambermaster.elmhurstchamber.org/events/details/kie-kate-couture-grand-opening-09-16-2011-4494
END:VEVENT

END:VCALENDAR
