BEGIN:VCALENDAR
VERSION:2.0
PRODID:-//ChamberMaster//Event Calendar 2.0//EN
METHOD:PUBLISH
X-PUBLISHED-TTL:P3D
REFRESH-INTERVAL:P3D
CALSCALE:GREGORIAN
BEGIN:VEVENT
DTSTART:20120626T183000Z
DTEND:20120626T193000Z
X-MICROSOFT-CDO-ALLDAYEVENT:FALSE
SUMMARY:Kite Flight and Design
DESCRIPTION:The sky is the limit as participants design and build their own operational kite. A kit\, supplies and instruction will be provided for participants. Finished kites will be flown in Berens Park with assistance from Park District staff. \n\n	Ages 5-12. Register at Courts Plus. Residents are $10 and nonresidents are $12.
X-ALT-DESC;FMTTYPE=text/html:<p>\n	<span style="font-size: 11pt"><font color="#000000">The sky is the limit as participants design and build their own operational kite. A kit\, supplies and instruction will be provided for participants. Finished kites will be flown in Berens Park with assistance from Park District staff. <o:p></o:p></font></span></p>\n<p>\n	<span style="font-size: 11pt"><font color="#000000">Ages 5-12. Register at Courts Plus. Residents are $10 and nonresidents are $12.<o:p></o:p></font></span></p>\n
LOCATION:Berens Park Pavilion B
UID:e.333.4861
SEQUENCE:3
DTSTAMP:20260424T225728Z
URL:https://chambermaster.elmhurstchamber.org/events/details/kite-flight-and-design-06-26-2012-4861
END:VEVENT

END:VCALENDAR
