BEGIN:VCALENDAR
VERSION:2.0
PRODID:-//ChamberMaster//Event Calendar 2.0//EN
METHOD:PUBLISH
X-PUBLISHED-TTL:P3D
REFRESH-INTERVAL:P3D
CALSCALE:GREGORIAN
BEGIN:VEVENT
DTSTART;VALUE=DATE:20120928
DTEND;VALUE=DATE:20120930
TRANSP:TRANSPARENT
X-MICROSOFT-CDO-ALLDAYEVENT:TRUE
SUMMARY:Kiwanis Club of Elmhurst Peanut Day
DESCRIPTION:PEANUTS!  Get your KIWANIS PEANUTS here!\n\n	\n\n	On September 28 and 29\, the community service-minded men & women of the Kiwanis Club of Elmhurst will return to the city's streets for their annual Peanut Day fundraiserWe are asking for your support by either purchasing a box of shelled roasted peanuts or mini-pretzels\, or donating to help underwrite our costs.\n\n	 \n\n	Box orders will be delivered in early October.  You can then share with co-workers\, customers or even for Halloween treats.\n\n	 \n\n	Our proceeds from Peanut Day & Pancake Day (held in May) allow us to provide more than $20\,000 annually to serving children\, families & organizations in need locally.  Proceeds help with Elmhurst Public School District 205's Food for Thought program\, Elmhurst Public Library's Summer Reading program\, Elmhurst YMCA Summer Camp\, NEDSRA Special Olympics\, and many other worthy causes.
X-ALT-DESC;FMTTYPE=text/html:<p class="MsoNormal" style="margin: 0in 0in 0pt">\n	<font size="3"><font color="#000000"><font face="Times New Roman"><b><i><span style="font-size: 20pt\; mso-bidi-font-size: 12.0pt"><font color="#000000"><font face="Times New Roman">PEANUTS!<span style="mso-spacerun: yes">&nbsp\; </span>Get your KIWANIS PEANUTS here!</font></font></span></i></b><br />\n	<br />\n	On September 28 and 29\, the community service-minded men &amp\; women of the Kiwanis Club of Elmhurst will return to the city&rsquo\;s streets for their annual Peanut Day fundraiser</font></font></font><font size="3"><font color="#000000"><font face="Times New Roman">We are asking for your support by either purchasing a box of shelled roasted peanuts or mini-pretzels\, or donating to help underwrite our costs.</font></font></font></p>\n<p class="MsoNormal" style="margin: 0in 0in 0pt">\n	<font color="#000000" face="Times New Roman" size="3">&nbsp\;</font></p>\n<p class="MsoNormal" style="margin: 0in 0in 0pt">\n	<font size="3"><font color="#000000"><font face="Times New Roman">Box orders will be delivered in early October. <span style="mso-spacerun: yes">&nbsp\;</span>You can then share with co-workers\, customers or even for Halloween treats.</font></font></font></p>\n<p class="MsoNormal" style="margin: 0in 0in 0pt">\n	<font color="#000000" face="Times New Roman" size="3">&nbsp\;</font></p>\n<p class="MsoNormal" style="margin: 0in 0in 0pt">\n	<font size="3"><font color="#000000"><font face="Times New Roman">Our proceeds from Peanut Day &amp\; Pancake Day (held in May) allow us to provide more than $20\,000 annually to serving children\, families &amp\; organizations in need locally.&nbsp\; </font></font></font><font size="3"><font color="#000000"><font face="Times New Roman">Proceeds help with Elmhurst Public School District 205&rsquo\;s Food for Thought program\, Elmhurst Public Library&rsquo\;s Summer Reading program\, Elmhurst YMCA Summer Camp\, NEDSRA Special Olympics\, and many other worthy causes.</font></font></font></p>\n
LOCATION:York Street at North Avenue and St. Charles Road
UID:e.333.4939
SEQUENCE:3
DTSTAMP:20260424T175856Z
URL:https://chambermaster.elmhurstchamber.org/events/details/kiwanis-club-of-elmhurst-peanut-day-09-28-2012-4939
END:VEVENT

END:VCALENDAR
