BEGIN:VCALENDAR
VERSION:2.0
PRODID:-//ChamberMaster//Event Calendar 2.0//EN
METHOD:PUBLISH
X-PUBLISHED-TTL:P3D
REFRESH-INTERVAL:P3D
CALSCALE:GREGORIAN
BEGIN:VEVENT
DTSTART:20110507T110000Z
DTEND:20110507T170000Z
X-MICROSOFT-CDO-ALLDAYEVENT:FALSE
SUMMARY:Kiwanis Pancake Day
DESCRIPTION:58th Annual Kiwanis Pancake Day is sponsored by the Kiwanis Club of Elmhurst.  It will be held on Saturday\, May 7\, 6a.m. to 12p.m. (noon) at Sandburg Middle School.  Good will donations welcomed.  Proceeds benefit Elmhurst children\, and numerous Kiwanis-sponsored programs serving the Elmhurst community and the children of the world.\n\n\n\nThere will also be a Mother's Day flower sale!  Choose from a beautiful selection of freshly-delivered hanging floral baskets and potted plants.  10" hanging baskets will be $16 and 7" combination pots will be $14.
X-ALT-DESC;FMTTYPE=text/html:58th Annual Kiwanis Pancake Day is sponsored by the Kiwanis Club of Elmhurst.&nbsp\; It will be held on Saturday\, May 7\, 6a.m. to 12p.m. (noon) at Sandburg Middle School.&nbsp\; Good will donations welcomed.&nbsp\; Proceeds benefit Elmhurst children\, and numerous Kiwanis-sponsored programs serving the Elmhurst community and the children of the world.<br />\n<br />\nThere will also be a Mother&#39\;s Day flower sale!&nbsp\; Choose from a beautiful selection of freshly-delivered hanging floral baskets and potted plants.&nbsp\; 10&quot\; hanging baskets will be $16 and 7&quot\; combination pots will be $14.
LOCATION:Sandberg Middle School 345 East St. Charles Road Elmhurst IL 60126
UID:e.333.4189
SEQUENCE:3
DTSTAMP:20260425T204605Z
URL:https://chambermaster.elmhurstchamber.org/events/details/kiwanis-pancake-day-05-07-2011-4189
END:VEVENT

END:VCALENDAR
