BEGIN:VCALENDAR
VERSION:2.0
PRODID:-//ChamberMaster//Event Calendar 2.0//EN
METHOD:PUBLISH
X-PUBLISHED-TTL:P3D
REFRESH-INTERVAL:P3D
CALSCALE:GREGORIAN
BEGIN:VEVENT
DTSTART:20120429T003000Z
DTEND:20120429T023000Z
X-MICROSOFT-CDO-ALLDAYEVENT:FALSE
SUMMARY:Kmang Kmang
DESCRIPTION:Kmang Kmang\, a classical guitar "trip hop" group founded by composer Barney Vishnu Ung\, features elements of electronics\, rock\, and jazz fusion with world influences in genres such as flamenco\, samba\, and Cambodian music.
X-ALT-DESC;FMTTYPE=text/html:Kmang Kmang\, a classical guitar &quot\;trip hop&quot\; group founded by composer Barney Vishnu Ung\, features elements of electronics\, rock\, and jazz fusion with world influences in genres such as flamenco\, samba\, and Cambodian music. 
LOCATION:Bethel United Church of Christ 315 E St. Charles Road Elmhurst\, IL
UID:e.333.4527
SEQUENCE:3
DTSTAMP:20260425T021650Z
URL:https://chambermaster.elmhurstchamber.org/events/details/kmang-kmang-04-28-2012-4527
END:VEVENT

END:VCALENDAR
