BEGIN:VCALENDAR
VERSION:2.0
PRODID:-//ChamberMaster//Event Calendar 2.0//EN
METHOD:PUBLISH
X-PUBLISHED-TTL:P3D
REFRESH-INTERVAL:P3D
CALSCALE:GREGORIAN
BEGIN:VEVENT
DTSTART:20130322T213000Z
DTEND:20130322T230000Z
X-MICROSOFT-CDO-ALLDAYEVENT:FALSE
SUMMARY:Knights of Columbus Fish Fry
DESCRIPTION:Every Friday during Lent\, with the exception of Good Friday\, Knights of Columbus will be hosting a Fish Fry. They open for dinner at 4:30p.m at the Knights of Columbus Hall.
X-ALT-DESC;FMTTYPE=text/html:Every Friday during Lent\, with the exception of Good Friday\, Knights of Columbus will be hosting a Fish Fry. They open for dinner at 4:30p.m at the Knights of Columbus Hall.&nbsp\;
LOCATION:Knights of Columbus 537 S. York St. Elmhurst\, IL 60126
UID:e.333.5165
SEQUENCE:3
DTSTAMP:20260424T085502Z
URL:https://chambermaster.elmhurstchamber.org/events/details/knights-of-columbus-fish-fry-03-22-2013-5165
END:VEVENT

END:VCALENDAR
