BEGIN:VCALENDAR
VERSION:2.0
PRODID:-//ChamberMaster//Event Calendar 2.0//EN
METHOD:PUBLISH
X-PUBLISHED-TTL:P3D
REFRESH-INTERVAL:P3D
CALSCALE:GREGORIAN
BEGIN:VEVENT
DTSTART:20130405T154500Z
DTEND:20130405T171500Z
X-MICROSOFT-CDO-ALLDAYEVENT:FALSE
SUMMARY:Know the 10 Signs: Early Detection Matters
DESCRIPTION:Ages 45 and older\n\n	This program focuses on the 10 warning signs of serious memory loss.  It includes a basic overview of Alzheimer's disease and covers risk factors\, diagnosis\, and the benefits of early detection.  Through the use of video footage\, you will meet people living with memory loss as they address the fears and myths associated with dementia\, and hear from family members who are on the journey with them.  Presented by the Alzheimer's Association\, Greater Illinois Chapter.  This program is free to attend but pre-registration is required.
X-ALT-DESC;FMTTYPE=text/html:<p class="MsoNormal" style="margin: 0in 0in 0pt 0.1in\;">\n	<span style="font-size: 10pt\;"><font color="#000000"><font face="Calibri">Ages 45 and older<o:p></o:p></font></font></span></p>\n<p class="MsoNormal" style="margin: 0in 0in 0pt 0.1in\;">\n	<span style="font-size: 10pt\;"><font color="#000000"><font face="Calibri">This program focuses on the 10 warning signs of serious memory loss.<span style="mso-spacerun: yes\;">&nbsp\; </span>It includes a basic overview of Alzheimer&rsquo\;s disease and covers risk factors\, diagnosis\, and the benefits of early detection.<span style="mso-spacerun: yes\;">&nbsp\; </span>Through the use of video footage\, you will meet people living with memory loss as they address the fears and myths associated with dementia\, and hear from family members who are on the journey with them.<span style="mso-spacerun: yes\;">&nbsp\; </span>Presented by the Alzheimer&rsquo\;s Association\, Greater Illinois Chapter.<span style="mso-spacerun: yes\;">&nbsp\; </span>This program is free to attend but pre-registration is required.<span style="mso-spacerun: yes\;">&nbsp\; </span><o:p></o:p></font></font></span></p>\n
LOCATION:The Abbey
UID:e.333.5215
SEQUENCE:3
DTSTAMP:20260422T194318Z
URL:https://chambermaster.elmhurstchamber.org/events/details/know-the-10-signs-early-detection-matters-04-05-2013-5215
END:VEVENT

END:VCALENDAR
