BEGIN:VCALENDAR
VERSION:2.0
PRODID:-//ChamberMaster//Event Calendar 2.0//EN
METHOD:PUBLISH
X-PUBLISHED-TTL:P3D
REFRESH-INTERVAL:P3D
CALSCALE:GREGORIAN
BEGIN:VEVENT
DTSTART:20130220T220000Z
DTEND:20130221T010000Z
X-MICROSOFT-CDO-ALLDAYEVENT:FALSE
SUMMARY:Koenig & Strey Grand Opening
DESCRIPTION:Our new office is open! you are invited to join us in celebration.
X-ALT-DESC;FMTTYPE=text/html:Our new office is open! you are invited to join us in celebration.&nbsp\;
LOCATION:210 N. York Street\, #101
UID:e.333.5183
SEQUENCE:3
DTSTAMP:20260424T114430Z
URL:https://chambermaster.elmhurstchamber.org/events/details/koenig-strey-grand-opening-02-20-2013-5183
END:VEVENT

END:VCALENDAR
