BEGIN:VCALENDAR
VERSION:2.0
PRODID:-//ChamberMaster//Event Calendar 2.0//EN
METHOD:PUBLISH
X-PUBLISHED-TTL:P3D
REFRESH-INTERVAL:P3D
CALSCALE:GREGORIAN
BEGIN:VEVENT
DTSTART;VALUE=DATE:20120627
DTEND;VALUE=DATE:20120804
TRANSP:TRANSPARENT
X-MICROSOFT-CDO-ALLDAYEVENT:TRUE
SUMMARY:La Belle France
DESCRIPTION:La Belle France\," an art show by three members of the Elmhurst Artists' Guild\, opens June 26 in the EAG Gallery at the Elmhurst Art Museum.  A French-themed opening reception for the exhibition will be held in the Gallery on Friday\, June 29\, from 7 to 9 p.m.  Both the reception and the show are open to the public.
X-ALT-DESC;FMTTYPE=text/html:<span style="font-size:11pt\;"><span style="font-family:arial\;">La Belle France\,&quot\; an art show by three members of the Elmhurst Artists&#39\; Guild\, opens June 26 in the EAG Gallery at the Elmhurst Art Museum.&nbsp\;&nbsp\;A French-themed opening reception for the exhibition will be held in the Gallery on Friday\, June 29\, from 7 to 9 p.m.&nbsp\; Both the reception and the show are open to the public. &nbsp\;</span></span>
LOCATION:Elmhurst Art Museum 150 Cottage Hill ave. Elmhurst\, IL 601206
UID:e.333.4898
SEQUENCE:3
DTSTAMP:20260424T193924Z
URL:https://chambermaster.elmhurstchamber.org/events/details/la-belle-france-06-27-2012-4898
END:VEVENT

END:VCALENDAR
