BEGIN:VCALENDAR
VERSION:2.0
PRODID:-//ChamberMaster//Event Calendar 2.0//EN
METHOD:PUBLISH
X-PUBLISHED-TTL:P3D
REFRESH-INTERVAL:P3D
CALSCALE:GREGORIAN
BEGIN:VEVENT
DTSTART:20130808T230000Z
DTEND:20130809T020000Z
X-MICROSOFT-CDO-ALLDAYEVENT:FALSE
SUMMARY:Ladies Night at Wilder Mansion
DESCRIPTION:Ages21 and older\n\n	"Relax" in style at our ladies evening at the Mansion.  Enjoy hor d'oeuvres\, chocolates\, and a complimentary glass of wine.  Pamper yourself: chair massage\, paraffin hand treatment\, hair styling fun\, jewelry\, make-up\, yoga.  Your night\, your way\, your fun!
X-ALT-DESC;FMTTYPE=text/html:<p class="MsoNormal" style="margin: 0in 0in 0pt 0.1in\;">\n	<font color="#000000" face="Calibri" size="3">Ages21 and older</font></p>\n<p class="MsoNormal" style="margin: 0in 0in 0pt 0.1in\;">\n	<font color="#000000" face="Calibri" size="3">&ldquo\;Relax&rdquo\; in style at our ladies evening at the Mansion.<span style="mso-spacerun: yes\;">&nbsp\; </span>Enjoy hor d&rsquo\;oeuvres\, chocolates\, and a complimentary glass of wine.<span style="mso-spacerun: yes\;">&nbsp\; </span>Pamper yourself: chair massage\, paraffin hand treatment\, hair styling fun\, jewelry\, make-up\, yoga.<span style="mso-spacerun: yes\;">&nbsp\; </span>Your night\, your way\, your fun!</font></p>\n
LOCATION:Wilder Mansion
UID:e.333.5301
SEQUENCE:3
DTSTAMP:20260422T133658Z
URL:https://chambermaster.elmhurstchamber.org/events/details/ladies-night-at-wilder-mansion-08-08-2013-5301
END:VEVENT

END:VCALENDAR
