BEGIN:VCALENDAR
VERSION:2.0
PRODID:-//ChamberMaster//Event Calendar 2.0//EN
METHOD:PUBLISH
X-PUBLISHED-TTL:P3D
REFRESH-INTERVAL:P3D
CALSCALE:GREGORIAN
BEGIN:VEVENT
DTSTART:20130808T230000Z
DTEND:20130809T020000Z
X-MICROSOFT-CDO-ALLDAYEVENT:FALSE
SUMMARY:Ladies' Night at Wilder Mansion
DESCRIPTION:Ages 21 and older: Relax in style at our ladies evening at the Mansion.  Enjoy hors d'oeuvres\, chocolates\, and a complimentary glass of wine.  Pamper yourself with chair massages\, paraffin hand treatments\, hair styling fun\, jewelry\, make-up and yoga.  Your night\, your way\, your fun!
X-ALT-DESC;FMTTYPE=text/html:<p class="MsoNormal" style="margin: 0in 0in 0pt 0.1in\;">\n	<font color="#000000" face="Calibri" size="3">Ages 21 and older:&nbsp\;</font><span style="color: rgb(0\, 0\, 0)\; font-family: Calibri\; font-size: medium\;">Relax in style at our ladies evening at the Mansion.</span><span style="color: rgb(0\, 0\, 0)\; font-family: Calibri\; font-size: medium\;">&nbsp\; </span><span style="color: rgb(0\, 0\, 0)\; font-family: Calibri\; font-size: medium\;">Enjoy hors d&rsquo\;oeuvres\, chocolates\, and a complimentary glass of wine.</span><span style="color: rgb(0\, 0\, 0)\; font-family: Calibri\; font-size: medium\;">&nbsp\; </span><span style="color: rgb(0\, 0\, 0)\; font-family: Calibri\; font-size: medium\;">Pamper yourself with chair massages\, paraffin hand treatments\, </span><span style="color: rgb(0\, 0\, 0)\; font-family: Calibri\; font-size: medium\;">hair styling</span><span style="color: rgb(0\, 0\, 0)\; font-family: Calibri\; font-size: medium\;"> fun\, jewelry\, make-up and yoga.</span><span style="color: rgb(0\, 0\, 0)\; font-family: Calibri\; font-size: medium\;">&nbsp\; </span><span style="color: rgb(0\, 0\, 0)\; font-family: Calibri\; font-size: medium\;">Your night\, your way\, your fun!</span></p>\n
LOCATION:Wilder Mansion Elmhurst\, IL
UID:e.333.5565
SEQUENCE:3
DTSTAMP:20260422T133646Z
URL:https://chambermaster.elmhurstchamber.org/events/details/ladies-night-at-wilder-mansion-08-08-2013-5565
END:VEVENT

END:VCALENDAR
