BEGIN:VCALENDAR
VERSION:2.0
PRODID:-//ChamberMaster//Event Calendar 2.0//EN
METHOD:PUBLISH
X-PUBLISHED-TTL:P3D
REFRESH-INTERVAL:P3D
CALSCALE:GREGORIAN
BEGIN:VEVENT
DTSTART:20131116T160000Z
DTEND:20131116T220000Z
X-MICROSOFT-CDO-ALLDAYEVENT:FALSE
SUMMARY:Lapidary Day
DESCRIPTION:See demonstrations by artists from the West Suburban Lapidary Club including: beading\, silversmithing\, cabochon cutting\, wire wrapping and faceting. Free hands-on activities and jewelry cleaning. The event is a great way to see the Museum and learn more about lapidary art. All Ages\, Free Admission
X-ALT-DESC;FMTTYPE=text/html:See demonstrations by artists from the West Suburban Lapidary Club including: beading\, silversmithing\, cabochon cutting\, wire wrapping and faceting. Free hands-on activities and jewelry cleaning. The event is a great way to see the Museum and learn more about lapidary art. All Ages\, Free Admission 
LOCATION:Lizzadro Museum of Lapidary Art 220 Cottage Hill Ave.\, Elmhurst
UID:e.333.5863
SEQUENCE:3
DTSTAMP:20260424T084552Z
URL:https://chambermaster.elmhurstchamber.org/events/details/lapidary-day-11-16-2013-5863
END:VEVENT

END:VCALENDAR
