BEGIN:VCALENDAR
VERSION:2.0
PRODID:-//ChamberMaster//Event Calendar 2.0//EN
METHOD:PUBLISH
X-PUBLISHED-TTL:P3D
REFRESH-INTERVAL:P3D
CALSCALE:GREGORIAN
BEGIN:VEVENT
DTSTART:20110324T000000Z
DTEND:20110324T020000Z
X-MICROSOFT-CDO-ALLDAYEVENT:FALSE
SUMMARY:League Hosts Panel Discussion on Women Today and How They see the Future
DESCRIPTION:American women received the right to vote almost 100 years ago and most barriers have come down\, but challenges remain both in our country and abroad. Join us for a lively panel discussion sponsored by the League of Women Voters of Elmhurst\, on Wednesday\, March 23 at 7:00 pm at the Elmhurst Public Library\, 125 S. Prospect\, Elmhurst.  Panelists include Elmhurst College Professors\, Librarian\, Pastor and a College Honor Student.\n\n \n\n \n\nPlease invite your daughters to join our celebration of Women's History Month because a women's work is never done. (Appropriate for middle school and older.)
X-ALT-DESC;FMTTYPE=text/html:<span style="font-size: 12px"><span style="color: #222222"><span style="font-family: arial">American women received the right to vote almost 100 years ago and most barriers have come down\, but challenges remain both in our country and abroad. Join us for a lively panel discussion sponsored by the League of Women Voters of Elmhurst\, on Wednesday\, March 23 at 7:00 pm at the Elmhurst Public Library\, 125 S. Prospect\, Elmhurst. &nbsp\;Panelists include Elmhurst College Professors\, Librarian\, Pastor and a College Honor Student.</span></span><br />\n&nbsp\;<br />\n&nbsp\;<br />\n<span style="color: #222222"><span style="font-family: arial">Please invite your daughters to join our celebration of Women&#39\;s History Month because a women&rsquo\;s work is never done. (Appropriate for middle school and older.)</span></span></span><br />\n<br />\n<br />\n<br />\n
LOCATION:Elmhurst Public Library 125 s. Prospect\, Elmhurst
UID:e.333.4101
SEQUENCE:3
DTSTAMP:20260425T234006Z
URL:https://chambermaster.elmhurstchamber.org/events/details/league-hosts-panel-discussion-on-women-today-and-how-they-see-the-future-03-23-2011-4101
END:VEVENT

END:VCALENDAR
