BEGIN:VCALENDAR
VERSION:2.0
PRODID:-//ChamberMaster//Event Calendar 2.0//EN
METHOD:PUBLISH
X-PUBLISHED-TTL:P3D
REFRESH-INTERVAL:P3D
CALSCALE:GREGORIAN
BEGIN:VEVENT
DTSTART:20111111T010000Z
DTEND:20111111T010000Z
X-MICROSOFT-CDO-ALLDAYEVENT:FALSE
SUMMARY:League of Women Voters Explores Role of Federal Government in Education
DESCRIPTION:Elmhurst District 205 administrators will discuss two aspects of the federal government's role in public education and their impact on Elmhurst schools:  \n\n	Dr. Charles Johns\, Assistant Superintended for Curriculum and Instruction\, will discuss Common Core Standards\, a national movement to bring consistency and rigor to K-12 public school students.  \n\n	Assistant Superintendet for Finance\, Mr. Christopher Whelton\, will address school funding and equity issues.  \n\n	The program is free and open to the public.
X-ALT-DESC;FMTTYPE=text/html:<p style="margin-top: 0px\; margin-right: 0px\; margin-bottom: 0.714em\; margin-left: 0px\; padding-top: 0px\; padding-right: 0px\; padding-bottom: 0px\; padding-left: 0px\; border-top-width: 0px\; border-right-width: 0px\; border-bottom-width: 0px\; border-left-width: 0px\; border-style: initial\; border-color: initial\; font-weight: inherit\; font-style: inherit\; font-size: 1em\; font-family: inherit\; vertical-align: baseline\; line-height: 1.429em\; ">\n	<span class="Apple-style-span" style="color: rgb(51\, 51\, 51)\; font-family: 'Helvetica Neue'\, Helvetica\, Arial\, sans-serif\; font-size: 14px\; line-height: 20px\; ">Elmhurst District 205 administrators will discuss two aspects of the federal government&#39\;s role in public education and their impact on Elmhurst schools: &nbsp\;</span></p>\n<p style="margin-top: 0px\; margin-right: 0px\; margin-bottom: 0.714em\; margin-left: 0px\; padding-top: 0px\; padding-right: 0px\; padding-bottom: 0px\; padding-left: 0px\; border-top-width: 0px\; border-right-width: 0px\; border-bottom-width: 0px\; border-left-width: 0px\; border-style: initial\; border-color: initial\; font-weight: inherit\; font-style: inherit\; font-size: 1em\; font-family: inherit\; vertical-align: baseline\; line-height: 1.429em\; ">\n	<span class="Apple-style-span" style="color: rgb(51\, 51\, 51)\; font-family: 'Helvetica Neue'\, Helvetica\, Arial\, sans-serif\; font-size: 14px\; line-height: 20px\; ">Dr. Charles Johns\, Assistant Superintended for Curriculum and Instruction\, will discuss Common Core Standards\, a national movement to bring consistency and rigor to K-12 public school students. &nbsp\;</span></p>\n<p style="margin-top: 0px\; margin-right: 0px\; margin-bottom: 0.714em\; margin-left: 0px\; padding-top: 0px\; padding-right: 0px\; padding-bottom: 0px\; padding-left: 0px\; border-top-width: 0px\; border-right-width: 0px\; border-bottom-width: 0px\; border-left-width: 0px\; border-style: initial\; border-color: initial\; font-weight: inherit\; font-style: inherit\; font-size: 1em\; font-family: inherit\; vertical-align: baseline\; line-height: 1.429em\; ">\n	<span class="Apple-style-span" style="color: rgb(51\, 51\, 51)\; font-family: 'Helvetica Neue'\, Helvetica\, Arial\, sans-serif\; font-size: 14px\; line-height: 20px\; ">Assistant Superintendet for Finance\, Mr. Christopher Whelton\, will address school funding and equity issues. &nbsp\;</span></p>\n<p style="margin-top: 0px\; margin-right: 0px\; margin-bottom: 0.714em\; margin-left: 0px\; padding-top: 0px\; padding-right: 0px\; padding-bottom: 0px\; padding-left: 0px\; border-top-width: 0px\; border-right-width: 0px\; border-bottom-width: 0px\; border-left-width: 0px\; border-style: initial\; border-color: initial\; font-weight: inherit\; font-style: inherit\; font-size: 1em\; font-family: inherit\; vertical-align: baseline\; line-height: 1.429em\; ">\n	<span class="Apple-style-span" style="color: rgb(51\, 51\, 51)\; font-family: 'Helvetica Neue'\, Helvetica\, Arial\, sans-serif\; font-size: 14px\; line-height: 20px\; ">The program is free and open to the public.</span></p>\n
LOCATION:Bryant Room\, Frick Center\, Elmhurst College 190 S. Prospect\, Elmhurst\, IL
UID:e.333.4528
SEQUENCE:3
DTSTAMP:20260425T105244Z
URL:https://chambermaster.elmhurstchamber.org/events/details/league-of-women-voters-explores-role-of-federal-government-in-education-11-10-2011-4528
END:VEVENT

END:VCALENDAR
