BEGIN:VCALENDAR
VERSION:2.0
PRODID:-//ChamberMaster//Event Calendar 2.0//EN
METHOD:PUBLISH
X-PUBLISHED-TTL:P3D
REFRESH-INTERVAL:P3D
CALSCALE:GREGORIAN
BEGIN:VEVENT
DTSTART:20111003T223000Z
DTEND:20111004T010000Z
X-MICROSOFT-CDO-ALLDAYEVENT:FALSE
SUMMARY:Learn to Protect Your Identity with Jeff Lanza
DESCRIPTION:Join retired FBI Special Agent Jeff Lanza as he presents:\n\n    Simple safeguards\n\n	\n		How to Protect Your Personal Info\n	\n		How to Protect your Documents\n	\n		Watch out for Tricks\n	\n		How to Protect Your communication\n	\n		Check your credit report\n\n\n	Seating is limited!  Register at 708-544-5500
X-ALT-DESC;FMTTYPE=text/html:Join retired FBI Special Agent Jeff Lanza as he presents:<br />\n&nbsp\;&nbsp\;&nbsp\;&nbsp\;Simple safeguards\n<ul>\n	<li>\n		How to Protect Your Personal Info</li>\n	<li>\n		How to Protect your Documents</li>\n	<li>\n		Watch out for Tricks</li>\n	<li>\n		How to Protect Your communication</li>\n	<li>\n		Check your credit report</li>\n</ul>\n<p>\n	Seating is limited!&nbsp\; Register at 708-544-5500&nbsp\;&nbsp\;&nbsp\;&nbsp\;&nbsp\;&nbsp\;&nbsp\;&nbsp\;</p>\n
LOCATION:Rebublic Bank 5500 St.Charles Road Berkley\, IL
UID:e.333.4504
SEQUENCE:3
DTSTAMP:20260425T120259Z
URL:https://chambermaster.elmhurstchamber.org/events/details/learn-to-protect-your-identity-with-jeff-lanza-10-03-2011-4504
END:VEVENT

END:VCALENDAR
