BEGIN:VCALENDAR
VERSION:2.0
PRODID:-//ChamberMaster//Event Calendar 2.0//EN
METHOD:PUBLISH
X-PUBLISHED-TTL:P3D
REFRESH-INTERVAL:P3D
CALSCALE:GREGORIAN
BEGIN:VEVENT
DTSTART:20110501T170000Z
DTEND:20110501T220000Z
X-MICROSOFT-CDO-ALLDAYEVENT:FALSE
SUMMARY:LENS Walk Against Poverty
DESCRIPTION:The LENS Walk against Poverty was created for those who are passionate about helping others in extreme poverty.  Even more important\, the walk provides an opportunity to learn what actions you\, as an individual\, can take to effectively alleviate poverty.  The word "LENS" stands for Learn - Empower - Nurture - Save.  It represents the process individuals go through when they discover how to help a person in need.  They first learn about the solutions to global poverty\, then feel empowered to help\, then nurture someone in need by turning their passion into action\, and finally the person they helped becomes saved.  LENS is also an important metaphor for bringing the solutions to global poverty into focus.
X-ALT-DESC;FMTTYPE=text/html:The LENS Walk against Poverty was created for those who are passionate about helping others in extreme poverty.&nbsp\; Even more important\, the walk provides an opportunity to learn what actions you\, as an individual\, can take to effectively alleviate poverty.&nbsp\; The word &quot\;LENS&quot\; stands for Learn - Empower - Nurture - Save.&nbsp\; It represents the process individuals go through when they discover how to help a person in need.&nbsp\; They first learn about the solutions to global poverty\, then feel empowered to help\, then nurture someone in need by turning their passion into action\, and finally the person they helped becomes saved.&nbsp\; LENS is also an important metaphor for bringing the solutions to global poverty into focus.
LOCATION:Elmhurst College Mall 190 Prospect Avenue Elmhurst\, IL 60126
UID:e.333.4103
SEQUENCE:3
DTSTAMP:20260425T204656Z
URL:https://chambermaster.elmhurstchamber.org/events/details/lens-walk-against-poverty-05-01-2011-4103
END:VEVENT

END:VCALENDAR
