BEGIN:VCALENDAR
VERSION:2.0
PRODID:-//ChamberMaster//Event Calendar 2.0//EN
METHOD:PUBLISH
X-PUBLISHED-TTL:P3D
REFRESH-INTERVAL:P3D
CALSCALE:GREGORIAN
BEGIN:VEVENT
DTSTART;VALUE=DATE:20110701
DTEND;VALUE=DATE:20110705
TRANSP:TRANSPARENT
X-MICROSOFT-CDO-ALLDAYEVENT:TRUE
SUMMARY:Libertyfest 2011
DESCRIPTION:Libertyfest 2011--Taste of the Towns\n\n\n\nSponsored by Village of Bensenville\, Village of Addison\, City of Elmhurst\, and City of Wood Dale\n\n	\n		Carnival Rides and games for all ages\n	\n		Food vendors from around the Region\n	\n		Pony rides\n	\n		Magic shows\n	\n		FREE ice skating\n	\n		Great bands every night and TWO fireworks spectaculars\n\nFriday\, July 1\n\n    5 to 11 p.m.--Carnival\n\n    8 to 10 p.m.-- R-Gang\n\n\n\nSaturday\, July 2\n\n    2 to 11 p.m.--Carnival\n\n    2 to 4 p.m.--Soul Patch Monkey\n\n    5 to 7 p.m.--Sambatico\n\n    8 to 10 p.m.--Heartache Tonight\n\n\n\nSunday\, July 3\n\n    2 to 11 p.m.--Carnival\n\n    2 p.m.--Independence Parade on York Road\n\n    3 to 4:30 p.m.--Children's Magic Show\n\n    3:30 to 4:30 p.m.--Duck Races on Lake Redmond\n\n    4:30 to 6:30 p.m.--The Meteors\n\n    7:30-9:30pm- Chicago Catz\n\n    9:30-10:00pm-Fireworks Spectacular\n\n\n\nMonday\, July 4\n\n    2 to 10 p.m.--Carnival\n\n    4:30 to 6:30 p.m.--He Said She Said\n\n    7:30 to 9:30 p.m.--7th Heaven\n\n    9:30 to 10 p.m.--Fireworks Spectacular
X-ALT-DESC;FMTTYPE=text/html:<a href="http://cloud.chambermaster.com/userfiles/UserFiles/chambers/333/File/Libertyfest.ad.pdf">Libertyfest 2011</a>--Taste of the Towns<br />\n<br />\nSponsored by Village of Bensenville\, Village of Addison\, City of Elmhurst\, and City of Wood Dale\n<ul>\n	<li>\n		Carnival Rides and games for all ages</li>\n	<li>\n		Food vendors from around the Region</li>\n	<li>\n		Pony rides</li>\n	<li>\n		Magic shows</li>\n	<li>\n		FREE ice skating</li>\n	<li>\n		Great bands every night and TWO fireworks spectaculars</li>\n</ul>\nFriday\, July 1<br />\n&nbsp\;&nbsp\;&nbsp\;&nbsp\;5 to 11 p.m.--Carnival<br />\n&nbsp\;&nbsp\;&nbsp\;&nbsp\;8 to 10 p.m.-- R-Gang<br />\n<br />\nSaturday\, July 2<br />\n&nbsp\;&nbsp\;&nbsp\;&nbsp\;2 to 11 p.m.--Carnival<br />\n&nbsp\;&nbsp\;&nbsp\;&nbsp\;2 to 4 p.m.--Soul Patch Monkey<br />\n&nbsp\;&nbsp\;&nbsp\;&nbsp\;5 to 7 p.m.--Sambatico<br />\n&nbsp\;&nbsp\;&nbsp\;&nbsp\;8 to 10 p.m.--Heartache Tonight<br />\n<br />\nSunday\, July 3<br />\n&nbsp\;&nbsp\;&nbsp\;&nbsp\;2 to 11 p.m.--Carnival<br />\n&nbsp\;&nbsp\;&nbsp\;&nbsp\;2 p.m.--Independence Parade on York Road<br />\n&nbsp\;&nbsp\;&nbsp\;&nbsp\;3 to 4:30 p.m.--Children&#39\;s Magic Show<br />\n&nbsp\;&nbsp\;&nbsp\;&nbsp\;3:30 to 4:30 p.m.--Duck Races on Lake Redmond<br />\n&nbsp\;&nbsp\;&nbsp\;&nbsp\;4:30 to 6:30 p.m.--The Meteors<br />\n&nbsp\;&nbsp\;&nbsp\;&nbsp\;7:30-9:30pm- Chicago Catz<br />\n&nbsp\;&nbsp\;&nbsp\;&nbsp\;9:30-10:00pm-Fireworks Spectacular<br />\n<br />\nMonday\, July 4<br />\n&nbsp\;&nbsp\;&nbsp\;&nbsp\;2 to 10 p.m.--Carnival<br />\n&nbsp\;&nbsp\;&nbsp\;&nbsp\;4:30 to 6:30 p.m.--He Said She Said<br />\n&nbsp\;&nbsp\;&nbsp\;&nbsp\;7:30 to 9:30 p.m.--7th Heaven<br />\n&nbsp\;&nbsp\;&nbsp\;&nbsp\;9:30 to 10 p.m.--Fireworks Spectacular
LOCATION:Village of Bensenville Village of Addison The City of Elmhurst The City of Wood Dale
UID:e.333.4236
SEQUENCE:3
DTSTAMP:20260425T161325Z
URL:https://chambermaster.elmhurstchamber.org/events/details/libertyfest-2011-07-01-2011-4236
END:VEVENT

END:VCALENDAR
