BEGIN:VCALENDAR
VERSION:2.0
PRODID:-//ChamberMaster//Event Calendar 2.0//EN
METHOD:PUBLISH
X-PUBLISHED-TTL:P3D
REFRESH-INTERVAL:P3D
CALSCALE:GREGORIAN
BEGIN:VEVENT
DTSTART:20130625T160000Z
DTEND:20130625T230000Z
X-MICROSOFT-CDO-ALLDAYEVENT:FALSE
SUMMARY:LifeSource Blood Drive at Elmhurst Public Library
DESCRIPTION:FREE pint of Culver's Frozen Custard for all presenting donors compliments of Culver's of Lombard.\n\n	\n\n	To schedule your appointment\, please call LifeSource at (877) 543-3768 or register online at www.lifesource.org and use sponsor code: 518C.\n\n	\n\n	Appointments Recommended\; Walk-ins welcome! \n\n	\n\n	FREE Cholesterol Screening and FREE Blood Typing for all donors!\n\n	\n\n	This is a community blood drive\, not an activity of the Elmhurst Public Library.\n\n	\n\n	Prepare for your donation:  Eat well\, stay hydrated\, bring ID.\n\n	\n\n	Please bring ID with you on the day of your blood donation.  Proper ID is required to donate blood.  A LifeSource or military ID\, driver's license\, or employee badge with picture and full name are all approved forms of ID.  Birth certificate along with a picture ID that includes the donor's full name will also be accepted.\n\n	\n\n	www.lifesource.org    1-877-LIFESOURCE    1-877-543-3768
X-ALT-DESC;FMTTYPE=text/html:<p>\n	FREE pint of Culver&#39\;s Frozen Custard for all presenting donors compliments of Culver&#39\;s of Lombard.<br />\n	<br />\n	To schedule your appointment\, please call LifeSource at (877) 543-3768 or register online at www.lifesource.org and use sponsor code: 518C.<br />\n	<br />\n	Appointments Recommended\; Walk-ins welcome!&nbsp\;<br />\n	<br />\n	FREE Cholesterol Screening and FREE Blood Typing for all donors!<br />\n	<br />\n	This is a community blood drive\, not an activity of the Elmhurst Public Library.<br />\n	<br />\n	Prepare for your donation: &nbsp\;Eat well\, stay hydrated\, bring ID.<br />\n	<br />\n	Please bring ID with you on the day of your blood donation. &nbsp\;Proper ID is required to donate blood. &nbsp\;A LifeSource or military ID\, driver&#39\;s license\, or employee badge with picture and full name are all approved forms of ID. &nbsp\;Birth certificate along with a picture ID that includes the donor&#39\;s full name will also be accepted.<br />\n	<br />\n	www.lifesource.org &nbsp\; &nbsp\;1-877-LIFESOURCE &nbsp\; &nbsp\;1-877-543-3768</p>\n
LOCATION:Elmhurst Public Library 125 S. Prospect St. Elmhurst\, IL 60126
UID:e.333.5525
SEQUENCE:3
DTSTAMP:20260422T180757Z
URL:https://chambermaster.elmhurstchamber.org/events/details/lifesource-blood-drive-at-elmhurst-public-library-06-25-2013-5525
END:VEVENT

END:VCALENDAR
