BEGIN:VCALENDAR
VERSION:2.0
PRODID:-//ChamberMaster//Event Calendar 2.0//EN
METHOD:PUBLISH
X-PUBLISHED-TTL:P3D
REFRESH-INTERVAL:P3D
CALSCALE:GREGORIAN
BEGIN:VEVENT
DTSTART:20130809T000000Z
DTEND:20130809T020000Z
X-MICROSOFT-CDO-ALLDAYEVENT:FALSE
SUMMARY:"Lift Your Spirits" Wine Event
DESCRIPTION:On Wednesday\, August 7\, 2013 PACT\, Inc. is hosting the 4th Annual "Lift Your Spirits" Wine Event.  This event will help PACT raise funds to continue our mission of helping people with disabilities live supported\, engaged and meaningful lives.  We would like to invite you to join us for the event at Seven Bridges Golf Club\, in Woodridge from 7:00 pm - 9:00 pm.
X-ALT-DESC;FMTTYPE=text/html:<br />\nOn Wednesday\, August 7\, 2013 PACT\, Inc. is hosting the 4th Annual &ldquo\;Lift Your Spirits&rdquo\; Wine Event.&nbsp\; This event will help PACT raise funds to continue our mission of helping people with disabilities live supported\, engaged and meaningful lives.&nbsp\; We would like to invite you to join us for the event at Seven Bridges Golf Club\, in Woodridge from 7:00 pm - 9:00 pm.<br />\n
LOCATION:Seven Bridges Golf Club\, Woodridge
UID:e.333.5560
SEQUENCE:3
DTSTAMP:20260422T133457Z
URL:https://chambermaster.elmhurstchamber.org/events/details/lift-your-spirits-wine-event-08-08-2013-5560
END:VEVENT

END:VCALENDAR
