BEGIN:VCALENDAR
VERSION:2.0
PRODID:-//ChamberMaster//Event Calendar 2.0//EN
METHOD:PUBLISH
X-PUBLISHED-TTL:P3D
REFRESH-INTERVAL:P3D
CALSCALE:GREGORIAN
BEGIN:VEVENT
DTSTART:20110107T003000Z
DTEND:20110107T020000Z
X-MICROSOFT-CDO-ALLDAYEVENT:FALSE
SUMMARY:Living Young Workshop
DESCRIPTION:Please join us for our Living Young Workshops located at 100 East Roosevelt Rd\, Villa Park\, IL 60181.\n\n\n\n\n\nThursday January 6th at 6:30pm.\n\n\n\n\n\nOur topic of the month is nutrition and weight loss! It?s that time again\, for New Year?s resolutions! Is your goal to lose weight? Do you already eat well and exercise but just can?t lose that last five pounds? Let us teach you how to achieve your weight loss goals. Given by Dr. Bobik of Balance Chiropractic and Wellness and Dr. Russell of Russell Chiropractic Care.
X-ALT-DESC;FMTTYPE=text/html:Please join us for our Living Young Workshops located at 100 East Roosevelt Rd\, Villa Park\, IL 60181.\n<br>\n<br>\n<br>Thursday January 6th at 6:30pm.\n<br>\n<br>\n<br>Our topic of the month is nutrition and weight loss! It?s that time again\, for New Year?s resolutions! Is your goal to lose weight? Do you already eat well and exercise but just can?t lose that last five pounds? Let us teach you how to achieve your weight loss goals. Given by Dr. Bobik of Balance Chiropractic and Wellness and Dr. Russell of Russell Chiropractic Care. 
LOCATION:100 East Roosevelt Rd\, Villa Park\, IL 60181.
UID:e.333.3678
SEQUENCE:3
DTSTAMP:20260426T010935Z
URL:https://chambermaster.elmhurstchamber.org/events/details/living-young-workshop-01-06-2011-3678
END:VEVENT

END:VCALENDAR
