BEGIN:VCALENDAR
VERSION:2.0
PRODID:-//ChamberMaster//Event Calendar 2.0//EN
METHOD:PUBLISH
X-PUBLISHED-TTL:P3D
REFRESH-INTERVAL:P3D
CALSCALE:GREGORIAN
BEGIN:VEVENT
DTSTART:20110119T003000Z
DTEND:20110119T020000Z
X-MICROSOFT-CDO-ALLDAYEVENT:FALSE
SUMMARY:Living Young Workshop
DESCRIPTION:Please join us for our Living Young Workshops located at 100 East Roosevelt Rd\, Villa Park\, IL 60181.\n\n\n\n\n\nTuesday January 18th at 6:30pm.\n\n\n\n\n\nOur topic of the month is nutrition and weight loss! It?s that time again\, for New Year?s resolutions! Is your goal to lose weight? Do you already eat well and exercise but just can?t lose that last five pounds? Let us teach you how to achieve your weight loss goals. Given by Dr. Bobik of Balance Chiropractic and Wellness and Dr. Russell of Russell Chiropractic Care.
X-ALT-DESC;FMTTYPE=text/html:Please join us for our Living Young Workshops located at 100 East Roosevelt Rd\, Villa Park\, IL 60181.\n<br>\n<br>\n<br>Tuesday January 18th at 6:30pm.\n<br>\n<br>\n<br>Our topic of the month is nutrition and weight loss! It?s that time again\, for New Year?s resolutions! Is your goal to lose weight? Do you already eat well and exercise but just can?t lose that last five pounds? Let us teach you how to achieve your weight loss goals. Given by Dr. Bobik of Balance Chiropractic and Wellness and Dr. Russell of Russell Chiropractic Care.
LOCATION:100 East Roosevelt Rd\, Villa Park IL\, 60181
UID:e.333.3679
SEQUENCE:3
DTSTAMP:20260426T010858Z
URL:https://chambermaster.elmhurstchamber.org/events/details/living-young-workshop-01-18-2011-3679
END:VEVENT

END:VCALENDAR
