BEGIN:VCALENDAR
VERSION:2.0
PRODID:-//ChamberMaster//Event Calendar 2.0//EN
METHOD:PUBLISH
X-PUBLISHED-TTL:P3D
REFRESH-INTERVAL:P3D
CALSCALE:GREGORIAN
BEGIN:VEVENT
DTSTART:20101217T003000Z
DTEND:20101217T020000Z
X-MICROSOFT-CDO-ALLDAYEVENT:FALSE
SUMMARY:Living Young Workshop
DESCRIPTION:Join us for our FREE Open House Living Young Workshop given by Dr. Kristen Bobik. There is no cost for this event and friends and family are welcome. Refreshments will be provided. Thursday December 16\, 2010 at 6:30pm. Also a great opportunity to check out the office\, meet the doctor\, and learn about our services! 630.941.9300!
X-ALT-DESC;FMTTYPE=text/html:Join us for our FREE Open House Living Young Workshop given by Dr. Kristen Bobik. There is no cost for this event and friends and family are welcome. Refreshments will be provided. Thursday December 16\, 2010 at 6:30pm. Also a great opportunity to check out the office\, meet the doctor\, and learn about our services! 630.941.9300! 
LOCATION:100 East Roosevelt Road\, Villa Park\, IL 60181
UID:e.333.3676
SEQUENCE:3
DTSTAMP:20260426T042716Z
URL:https://chambermaster.elmhurstchamber.org/events/details/living-young-workshop-12-16-2010-3676
END:VEVENT

END:VCALENDAR
