BEGIN:VCALENDAR
VERSION:2.0
PRODID:-//ChamberMaster//Event Calendar 2.0//EN
METHOD:PUBLISH
X-PUBLISHED-TTL:P3D
REFRESH-INTERVAL:P3D
CALSCALE:GREGORIAN
BEGIN:VEVENT
DTSTART:20110902T000000Z
DTEND:20110902T020000Z
X-MICROSOFT-CDO-ALLDAYEVENT:FALSE
SUMMARY:LWV Presents: New Beginnings in Elmhurst -- Meet the New Executives
DESCRIPTION:The Elmhurst League of Women Voters invites the public to a reception to meet and welcome the four new executives of our governmental institutions:\n\n** City Manager James Brabowski\n\n** Library Director Mary Beth Campe\n\n** Park District Director James Rogers\n\n** School District 205 Superintendent David Pruneau\n\n\n\nThe free event will begin with a short program to introduce the administrators followed by informal sessions in which individuals may speak with each of them.  Light refreshments will be served.
X-ALT-DESC;FMTTYPE=text/html:The Elmhurst League of Women Voters invites the public to a reception to meet and welcome the four new executives of our governmental institutions:<br />\n** City Manager James Brabowski<br />\n** Library Director Mary Beth Campe<br />\n** Park District Director James Rogers<br />\n** School District 205 Superintendent David Pruneau<br />\n<br />\nThe free event will begin with a short program to introduce the administrators followed by informal sessions in which individuals may speak with each of them. &nbsp\;Light refreshments will be served.
LOCATION:Wilder Mansion\, 211 S. Prospect\, Elmhurst\, IL
UID:e.333.4265
SEQUENCE:3
DTSTAMP:20260425T132648Z
URL:https://chambermaster.elmhurstchamber.org/events/details/lwv-presents-new-beginnings-in-elmhurst-meet-the-new-executives-09-01-2011-4265
END:VEVENT

END:VCALENDAR
