BEGIN:VCALENDAR
VERSION:2.0
PRODID:-//ChamberMaster//Event Calendar 2.0//EN
METHOD:PUBLISH
X-PUBLISHED-TTL:P3D
REFRESH-INTERVAL:P3D
CALSCALE:GREGORIAN
BEGIN:VEVENT
DTSTART:20101118T230000Z
DTEND:20101119T020000Z
X-MICROSOFT-CDO-ALLDAYEVENT:FALSE
SUMMARY:Magic & Merlot
DESCRIPTION:Eugene Burger\, named as "Chicago's Best Magician" in Chicago Magazine's Best of Chicago issue\, is one of the finest close-up magicians in the U.S. Elmhurst Heritage Foundation presents an unforgettable evening with this master of magic including a guided tour of the "Magical History Tour" exhibit\, appetizers and wine tasting at Wine & Vine\, and a performance by Burger. Limited seats available\; call now for reservations: 630-833-1457 or go to www.elmhurstheritagefoundation.org.
X-ALT-DESC;FMTTYPE=text/html:Eugene Burger\, named as &quot\;Chicago&#39\;s Best Magician&quot\; in Chicago Magazine&#39\;s Best of Chicago issue\, is one of the finest close-up magicians in the U.S. Elmhurst Heritage Foundation presents an unforgettable evening with this master of magic including a guided tour of the &quot\;Magical History Tour&quot\; exhibit\, appetizers and wine tasting at Wine &amp\; Vine\, and a performance by Burger. Limited seats available\; call now for reservations: 630-833-1457 or go to www.elmhurstheritagefoundation.org. 
LOCATION:Elmhurst Historical Museum and Wine & Vine\, 105 S. York St.
UID:e.333.3519
SEQUENCE:3
DTSTAMP:20260426T042716Z
URL:https://chambermaster.elmhurstchamber.org/events/details/magic-merlot-11-18-2010-3519
END:VEVENT

END:VCALENDAR
