BEGIN:VCALENDAR
VERSION:2.0
PRODID:-//ChamberMaster//Event Calendar 2.0//EN
METHOD:PUBLISH
X-PUBLISHED-TTL:P3D
REFRESH-INTERVAL:P3D
CALSCALE:GREGORIAN
BEGIN:VEVENT
DTSTART:20100916T180000Z
DTEND:20110102T230000Z
X-MICROSOFT-CDO-ALLDAYEVENT:FALSE
SUMMARY:Magical History Tour Exhibit
DESCRIPTION:This magical multi-media exhibit for all ages has been extended. Explore the history of magic and get to know legendary magicians such as Robert-Houdin\, Blackstone\, Houdini and more. Find out about former Elmhurst resident\, magician and magic teacher Dr. Harlan Tarbell\, and encounter fascinating artifacts from local collectors including Marshall Brodien and Jay Marshall. Don?t miss the fun interactive spy glass experience for kids. 630-833-1457\, www.elmhursthistory.org
X-ALT-DESC;FMTTYPE=text/html:This magical multi-media exhibit for all ages has been extended. Explore the history of magic and get to know legendary magicians such as Robert-Houdin\, Blackstone\, Houdini and more. Find out about former Elmhurst resident\, magician and magic teacher Dr. Harlan Tarbell\, and encounter fascinating artifacts from local collectors including Marshall Brodien and Jay Marshall. Don?t miss the fun interactive spy glass experience for kids. 630-833-1457\, www.elmhursthistory.org\n<br>\n<br>
LOCATION:Elmhurst Historical Museum 120 E. Park Ave. Elmhurst
UID:e.333.3473
SEQUENCE:3
DTSTAMP:20260426T010934Z
URL:https://chambermaster.elmhurstchamber.org/events/details/magical-history-tour-exhibit-09-16-2010-3473
END:VEVENT

END:VCALENDAR
