BEGIN:VCALENDAR
VERSION:2.0
PRODID:-//ChamberMaster//Event Calendar 2.0//EN
METHOD:PUBLISH
X-PUBLISHED-TTL:P3D
REFRESH-INTERVAL:P3D
CALSCALE:GREGORIAN
BEGIN:VEVENT
DTSTART:20110713T130000Z
DTEND:20110713T140000Z
X-MICROSOFT-CDO-ALLDAYEVENT:FALSE
SUMMARY:Make EVERY Hire Count!
DESCRIPTION:As part of our Professional Speaker Seminar Series\, Elmhurst Chamber of Commerce members will be presenting a one-hour seminar on their products/services.\n\n\n\nDave McCaffrey of Predictive Assets will be our featured speaker\, presenting "Make EVERY Hire Count!".\n\n\n\n"Predictive Assets can help every chamber member\, large and small\, make EVERY hire count.  To succeed\, a company has to have the right people in the right job so when the unique fit between talent and need is attained\, virtually every hire WILL count.  The discussion will focus on how to hire the person with the right attitude\; the right learning skills\;  the right behavioural traits and the right interests in the job.  EVERY hire CAN and WILL count if they have the right information to make an intelligent hiring decision". \n\n\n\nAttendance will be free to Chamber members and special guests.
X-ALT-DESC;FMTTYPE=text/html:As part of our Professional Speaker Seminar Series\, Elmhurst Chamber of Commerce members will be presenting a one-hour seminar on their products/services.<br />\n<br />\nDave McCaffrey&nbsp\;of Predictive Assets will be our featured speaker\, presenting &quot\;Make EVERY Hire Count!&quot\;.<br />\n<br />\n<span style="font-size: 12px"><span style="font-family: times new roman"><em><span style="font-style: italic">&ldquo\;Predictive Assets can help every chamber member\, large and small\, make EVERY hire count. &nbsp\;To succeed\, a company has to have the right people in the right job so when the unique fit between talent and need is attained\, virtually every hire WILL count. &nbsp\;The discussion will focus on how to hire the person with the right attitude\; the right learning skills\; &nbsp\;the right behavioural traits and the right interests in the job. &nbsp\;EVERY hire CAN and WILL count if they have the right information to make an intelligent hiring decision&rdquo\;.&nbsp\;</span></em></span></span><br />\n<br />\nAttendance will be free to Chamber members and special guests.&nbsp\;
LOCATION:Elmhurst Chamber of Commerce & Industry Community Bank of Elmhurst Board Room 242 N York St.\, Ste 102 Elmhurst\, IL 60126
UID:e.333.4241
SEQUENCE:3
DTSTAMP:20260425T161226Z
URL:https://chambermaster.elmhurstchamber.org/events/details/make-every-hire-count-07-13-2011-4241
END:VEVENT

END:VCALENDAR
