BEGIN:VCALENDAR
VERSION:2.0
PRODID:-//ChamberMaster//Event Calendar 2.0//EN
METHOD:PUBLISH
X-PUBLISHED-TTL:P3D
REFRESH-INTERVAL:P3D
CALSCALE:GREGORIAN
BEGIN:VEVENT
DTSTART:20110513T233000Z
DTEND:20110514T030000Z
X-MICROSOFT-CDO-ALLDAYEVENT:FALSE
SUMMARY:"Making History Through Leadership"
DESCRIPTION:The Elmhurst Heritage Foundation invites the community of Elmhurst to celebrate the 40-year career of retiring Elmhurst City Manager Tom Borchert at a tribute dinner on Friday\, May 13\, 2011.  "Making History Through Leadership" honors Mr.Borchert's legacy of service to the City of Elmhrust\, and the entire Elmhurst community is invited to join in the celebration.
X-ALT-DESC;FMTTYPE=text/html:The Elmhurst Heritage Foundation invites the community of Elmhurst to celebrate the 40-year career of retiring Elmhurst City Manager Tom Borchert at a tribute dinner on Friday\, May 13\, 2011.&nbsp\; &quot\;Making History Through Leadership&quot\; honors Mr.Borchert&#39\;s legacy of service to the City of Elmhrust\, and the entire Elmhurst community is invited to join in the celebration.
LOCATION:Diplomat West Banquet Halls 681 W. North Ave. Elmhurst IL 60126
UID:e.333.4173
SEQUENCE:3
DTSTAMP:20260425T191931Z
URL:https://chambermaster.elmhurstchamber.org/events/details/making-history-through-leadership-05-13-2011-4173
END:VEVENT

END:VCALENDAR
