BEGIN:VCALENDAR
VERSION:2.0
PRODID:-//ChamberMaster//Event Calendar 2.0//EN
METHOD:PUBLISH
X-PUBLISHED-TTL:P3D
REFRESH-INTERVAL:P3D
CALSCALE:GREGORIAN
BEGIN:VEVENT
DTSTART:20130223T143000Z
DTEND:20130223T220000Z
X-MICROSOFT-CDO-ALLDAYEVENT:FALSE
SUMMARY:Marriage Seminar "How t Really be Married"
DESCRIPTION:ELMchurch in Elmhurst at the corner of York and St. Charles hosts a marriage conference on Saturday\, February 23 from 8:30 am to 4:00 pm "How to be Really Married". Conducted by Bob Moeller and his wife\, Cherly\, founder of For Better For Worse For Keeps Ministries.  \n\n\n\nRAVP at http://tinyurl.com/Feb23Bob-Moeller or by caling 630-832-9100 or email at infor@elmchurch.org \n\n\n\nWalk-ins are aslo welcome!
X-ALT-DESC;FMTTYPE=text/html:ELMchurch in Elmhurst at the corner of York and St. Charles hosts a marriage conference on Saturday\, February 23 from 8:30 am to 4:00 pm &quot\;How to be Really Married&quot\;. Conducted by Bob Moeller and his wife\, Cherly\, founder of For Better For Worse For Keeps Ministries. &nbsp\;<br />\n<br />\nRAVP at http://tinyurl.com/Feb23Bob-Moeller or by caling&nbsp\;630-832-9100 or email at infor@elmchurch.org&nbsp\;<br />\n<br />\nWalk-ins are aslo welcome!&nbsp\;
LOCATION:ELMchurch 343 S. York St. Elmhurst\, IL 60126
UID:e.333.5178
SEQUENCE:3
DTSTAMP:20260424T102353Z
URL:https://chambermaster.elmhurstchamber.org/events/details/marriage-seminar-how-t-really-be-married-02-23-2013-5178
END:VEVENT

END:VCALENDAR
