BEGIN:VCALENDAR
VERSION:2.0
PRODID:-//ChamberMaster//Event Calendar 2.0//EN
METHOD:PUBLISH
X-PUBLISHED-TTL:P3D
REFRESH-INTERVAL:P3D
CALSCALE:GREGORIAN
BEGIN:VEVENT
DTSTART:20121025T230000Z
DTEND:20121026T020000Z
X-MICROSOFT-CDO-ALLDAYEVENT:FALSE
SUMMARY:Meet Me at the Fair: Celebrating Centuries of Progress
DESCRIPTION:The Elmhurst Heritage Foundation invites the community to an evening at the historic Wilder Mansion to celebrate the opening of the Centuries of Progress exhibit at the Elmhurst Historical Museum. Wine tasting\, craft beers\, appetizers\, and raffle. Proceeds benefit museum exhibits and educational programs for schoolchildren at the Churchville Schoolhouse. Location: Wilder Mansion\, 211 Prospect Ave.\, Elmhurst. Call 630-833-1457 for tickets or visit www.elmhurstheritagefoundation.org.
X-ALT-DESC;FMTTYPE=text/html:<p class="MsoNormal" style="margin: 0in 0in 0pt">\n	<span style="font-family: 'arial'\, 'sans-serif'">The Elmhurst Heritage Foundation invites the community to an evening at the historic Wilder Mansion to celebrate the opening of the Centuries of Progress exhibit at the Elmhurst Historical Museum. Wine tasting\, craft beers\, appetizers\, and raffle. Proceeds benefit museum exhibits and educational programs for schoolchildren at the Churchville Schoolhouse. Location: Wilder Mansion\, 211 Prospect Ave.\, Elmhurst. Call 630-833-1457 for tickets or visit <a href="http://www.elmhurstheritagefoundation.org/"><span style="color: purple">www.elmhurstheritagefoundation.org</span></a>. &nbsp\;</span><o:p></o:p></p>\n
LOCATION:Wilder Mansion
UID:e.333.4951
SEQUENCE:3
DTSTAMP:20260424T162736Z
URL:https://chambermaster.elmhurstchamber.org/events/details/meet-me-at-the-fair-celebrating-centuries-of-progress-10-25-2012-4951
END:VEVENT

END:VCALENDAR
