BEGIN:VCALENDAR
VERSION:2.0
PRODID:-//ChamberMaster//Event Calendar 2.0//EN
METHOD:PUBLISH
X-PUBLISHED-TTL:P3D
REFRESH-INTERVAL:P3D
CALSCALE:GREGORIAN
BEGIN:VEVENT
DTSTART:20130323T210000Z
DTEND:20130324T010000Z
X-MICROSOFT-CDO-ALLDAYEVENT:FALSE
SUMMARY:Men in Brotherhood Spaghetti Dinner Night
DESCRIPTION:Community Spaghetti Dinner Night sponsored by Men in Brotherhood Lodge of Elmhurst.\n\n\n\nHelp us support our charities by supporting us!
X-ALT-DESC;FMTTYPE=text/html:Community Spaghetti Dinner Night sponsored by Men in Brotherhood Lodge of Elmhurst.<br />\n<br />\nHelp us support our charities by supporting us!
LOCATION:Elmhurst Temple 159 W. North Ave.
UID:e.333.5230
SEQUENCE:3
DTSTAMP:20260424T085113Z
URL:https://chambermaster.elmhurstchamber.org/events/details/men-in-brotherhood-spaghetti-dinner-night-03-23-2013-5230
END:VEVENT

END:VCALENDAR
