BEGIN:VCALENDAR
VERSION:2.0
PRODID:-//ChamberMaster//Event Calendar 2.0//EN
METHOD:PUBLISH
X-PUBLISHED-TTL:P3D
REFRESH-INTERVAL:P3D
CALSCALE:GREGORIAN
BEGIN:VEVENT
DTSTART:20110122T010000Z
DTEND:20110122T030000Z
X-MICROSOFT-CDO-ALLDAYEVENT:FALSE
SUMMARY:Michael Klaus Schmidt: American Islamic Art
DESCRIPTION:Original paintings and drawings by EAG member and Elmhurst artist\, Michael Klaus Schmidt. Reception\, open to the public\, will be held Friday\, January 21\, from 7 to 9 pm.\n\n\n\nIn his quest to create a new genre of American Islamic Art\, Michael strives to remain within Islamic guidelines while following his own artistic muse in choosing subject matter.  His art serves as a bridge between his American culture and his Islamic beliefs.  Michael's artwork has been exhibited recently in Saudi Arabia\, New Orleans\, and Chicago.
X-ALT-DESC;FMTTYPE=text/html:Original paintings and drawings by EAG member and Elmhurst artist\, Michael Klaus Schmidt. Reception\, open to the public\, will be held Friday\, January 21\, from 7 to 9 pm.\n<br>\n<br>In his quest to create a new genre of American Islamic Art\, Michael strives to remain within Islamic guidelines while following his own artistic muse in choosing subject matter.  His art serves as a bridge between his American culture and his Islamic beliefs.  Michael's artwork has been exhibited recently in Saudi Arabia\, New Orleans\, and Chicago.\n<br>\n<br>\n<br>
LOCATION:Elmhurst Artists' Guild Gallery\, Elmhurst Art Museum Bldg.\, 150 S Cottage Hill\, Elmhurst\, IL 60126
UID:e.333.3682
SEQUENCE:3
DTSTAMP:20260426T024321Z
URL:https://chambermaster.elmhurstchamber.org/events/details/michael-klaus-schmidt-american-islamic-art-01-21-2011-3682
END:VEVENT

END:VCALENDAR
