BEGIN:VCALENDAR
VERSION:2.0
PRODID:-//ChamberMaster//Event Calendar 2.0//EN
METHOD:PUBLISH
X-PUBLISHED-TTL:P3D
REFRESH-INTERVAL:P3D
CALSCALE:GREGORIAN
BEGIN:VEVENT
DTSTART:20120713T013000Z
DTEND:20120713T033000Z
X-MICROSOFT-CDO-ALLDAYEVENT:FALSE
SUMMARY:Middle School Night at the Pool
DESCRIPTION:Calling all 6th\, 7th\, and 8th graders! Come to East End Pool and get down with DJ Stevie D from Operation Getdown Productions and your friends as you swim to your favorite tunes. Drinks and snacks will be available for purchase. All participants must be registered by a parent/guardian in order to attend. Cost is $5 for residents and $6 for nonresidents.
X-ALT-DESC;FMTTYPE=text/html:<p>\n	<span style="font-family: 'cambria'\, 'serif'\; font-size: 11pt\; mso-ascii-theme-font: major-latin\; mso-hansi-theme-font: major-latin"><font color="#000000">Calling all 6th\, 7th\, and 8th graders! Come to East End Pool and get down with DJ Stevie D from Operation Getdown Productions and your friends as you swim to your favorite tunes. Drinks and snacks will be available for purchase. All participants must be registered by a parent/guardian in order to attend. Cost is $5 for residents and $6 for nonresidents. <o:p></o:p></font></span></p>\n
LOCATION:East End pool
UID:e.333.4864
SEQUENCE:3
DTSTAMP:20260424T212036Z
URL:https://chambermaster.elmhurstchamber.org/events/details/middle-school-night-at-the-pool-07-12-2012-4864
END:VEVENT

END:VCALENDAR
