BEGIN:VCALENDAR
VERSION:2.0
PRODID:-//ChamberMaster//Event Calendar 2.0//EN
METHOD:PUBLISH
X-PUBLISHED-TTL:P3D
REFRESH-INTERVAL:P3D
CALSCALE:GREGORIAN
BEGIN:VEVENT
DTSTART:20131027T000000Z
DTEND:20131027T050000Z
X-MICROSOFT-CDO-ALLDAYEVENT:FALSE
SUMMARY:Midnight Masquerade 2013
DESCRIPTION:The Elmhurst District 205 Foundation invites you to Midnight Masquerade 2013 for a night of lighter fare\, desserts\, cash bar\, live music\, silent auctions\, raffles\, and semi-formal attire.\n\n\n\nTickets are $100 each\, or receive sponsor recognition with purchase of 4 for $500.\n\nTickets purchased before October 11 will be entered into a drawing for an iPad mini.  For more information and to order tickets\, call: (630) 617-2376 or visit: www.elmhurst205.org/foundation.
X-ALT-DESC;FMTTYPE=text/html:The Elmhurst District 205 Foundation invites you to Midnight Masquerade 2013 for a night of lighter fare\, desserts\, cash bar\, live music\, silent auctions\, raffles\, and semi-formal attire.<br />\n<br />\nTickets are $100 each\, or receive sponsor recognition with purchase of 4 for $500.<br />\nTickets purchased before October 11 will be entered into a drawing for an iPad mini. &nbsp\;For more information and to order tickets\, call: (630) 617-2376 or visit: www.elmhurst205.org/foundation.
LOCATION:River Forest Country Club 15W468 Grand Ave. Elmhurst\, IL
UID:e.333.5865
SEQUENCE:3
DTSTAMP:20260422T111331Z
URL:https://chambermaster.elmhurstchamber.org/events/details/midnight-masquerade-2013-10-26-2013-5865
END:VEVENT

END:VCALENDAR
