BEGIN:VCALENDAR
VERSION:2.0
PRODID:-//ChamberMaster//Event Calendar 2.0//EN
METHOD:PUBLISH
X-PUBLISHED-TTL:P3D
REFRESH-INTERVAL:P3D
CALSCALE:GREGORIAN
BEGIN:VEVENT
DTSTART:20120828T200000Z
DTEND:20120829T000000Z
X-MICROSOFT-CDO-ALLDAYEVENT:FALSE
SUMMARY:Midwest Orthopaedics at Rush Occupational Medicine Clinic Tour and OPEN HOUSE
DESCRIPTION:Stop by and meet Dr. Richard Rodarte and take a TOUR of the new\n\n	Midwest Orthopaedics at Rush Occupational Medicine Clinic\,\n\n	 in Westchester\, located at Prairie Medical Center of Westchester\, 2450 S. Wolf Road\, Suite F.\, Westchester\, IL 60154\n\n\n\n\n\n\nDr. Rodarte\, head of the new Occupational Medicine Clinic\, is a native of Chicago and fluent in (conversational) Spanish. He is board certified in Occupational Medicine. Dr. Rodarte has extensive experience serving the Chicago working community with a focus on meeting the health and safety needs of the employee\, yet understanding the business needs of the employer.\n\n\n\nTo set up a meeting for Dr. Rodarte to visit your workplace\, please contact Paul Strandquist at paul.strandquist@rushortho.com or 708-236-2661.\n\n\n\n\n\nRSVP by August 20 to Andrea McGrew at andrea.mcgrew@rushortho.com.\n\n\n	\n		Appetizers and drinks will be provided. \n	\n		Enter for a chance to win VIP Chicago White Sox tickets!!\n\n\n\nFor more information about Midwest Orthopaedics at Rush visit www.rushortho.com or call 877.MD.BONES (877.632.6637) to schedule an appointment.\n\n\n\n\n\nSOCIAL MEDIA Sites:\n\n\n	\n		Facebook:    http://www.facebook.com/MidwestOrthopaedicsatRush\n	\n		Twitter:         https://twitter.com/MOR_Docs\n	\n		LinkedIn:      https://www.linkedin.com/company/midwest-orthopaedics-at-rush\n	\n		YouTube:      https://www.youtube.com/user/MidwestOrthoatRush
X-ALT-DESC;FMTTYPE=text/html:<p style="text-align: center">\n	<span style="font-size: 22px"><span style="font-size: 18px">Stop by and meet Dr. Richard Rodarte and take a TOUR of the new</span><br />\n	<span style="color: #0000ff"><strong>Midwest Orthopaedics at Rush Occupational Medicine Clinic</strong></span>\,<br />\n	<span style="font-size: 20px">&nbsp\;<span style="font-size: 18px">in Westchester\, located at <strong><u>Prairie Medical Center of Westchester\, 2450 S. Wolf Road\, Suite F.\, Westchester\, IL 60154</u></strong></span></span></span></p>\n<br />\n<br />\n<br />\n<span style="font-size: 14px"><u><strong>Dr. Rodarte</strong></u>\, head of the new <u><strong>Occupational Medicine Clinic</strong></u>\, is a native of Chicago and fluent in (conversational) Spanish. <u><strong>He is board certified in Occupational Medicine</strong></u>. Dr. Rodarte has extensive experience serving the Chicago working community with a focus on meeting the health and safety needs of the employee\, yet understanding the business needs of the employer.<br />\n<br />\n<strong>To set up a meeting for Dr. Rodarte to visit your workplace</strong>\, please contact <strong>Paul Strandquist</strong> at <u>paul.strandquist@rushortho.com</u> or <u>708-236-2661</u>.<br />\n<br />\n<br />\n<strong>RSVP by August 20 to Andrea McGrew at <u>andrea.mcgrew@rushortho.com</u></strong>.</span><br />\n<ul>\n	<li>\n		<span style="font-size: 14px">Appetizers and drinks will be provided.&nbsp\;</span></li>\n	<li>\n		<span style="font-size: 14px">Enter for a chance to win VIP Chicago White Sox tickets!!</span></li>\n</ul>\n<br />\n<span style="font-size: 14px"><strong>For more information about Midwest Orthopaedics at Rush visit www.rushortho.com or call 877.MD.BONES (877.632.6637) to schedule an appointment.</strong><br />\n<br />\n<br />\n<span style="color: #0000ff"><u><strong>SOCIAL MEDIA Sites</strong></u></span>:</span><br />\n<ul>\n	<li>\n		<span style="font-size: 14px"><strong>Facebook</strong>: &nbsp\; &nbsp\;http://www.facebook.com/MidwestOrthopaedicsatRush</span></li>\n	<li>\n		<span style="font-size: 14px"><strong>Twitter</strong>: &nbsp\; &nbsp\; &nbsp\; &nbsp\; https://twitter.com/MOR_Docs</span></li>\n	<li>\n		<span style="font-size: 14px"><strong>LinkedIn</strong>: &nbsp\; &nbsp\; &nbsp\;https://www.linkedin.com/company/midwest-orthopaedics-at-rush</span></li>\n	<li>\n		<span style="font-size: 14px"><strong>YouTube</strong>: &nbsp\; &nbsp\; &nbsp\;https://www.youtube.com/user/MidwestOrthoatRush&nbsp\;</span></li>\n</ul>\n
LOCATION:Prairie Medical Center of Westchester 2450 S. Wolf Road\, Suite F.\, Westchester\, IL 60154
UID:e.333.4924
SEQUENCE:3
DTSTAMP:20260424T194159Z
URL:https://chambermaster.elmhurstchamber.org/events/details/midwest-orthopaedics-at-rush-occupational-medicine-clinic-tour-and-open-house-08-28-2012-4924
END:VEVENT

END:VCALENDAR
