BEGIN:VCALENDAR
VERSION:2.0
PRODID:-//ChamberMaster//Event Calendar 2.0//EN
METHOD:PUBLISH
X-PUBLISHED-TTL:P3D
REFRESH-INTERVAL:P3D
CALSCALE:GREGORIAN
BEGIN:VEVENT
DTSTART:20121208T170000Z
DTEND:20121208T231500Z
X-MICROSOFT-CDO-ALLDAYEVENT:FALSE
SUMMARY:Millennium Park Ice Skating
DESCRIPTION:Grab your skates and scarves and hop on the train! We'll meet at the Elmhurst Metra and travel downtown to ice skate at Millennium Park. We'll walk from Ogilvie Center through the Loop\, enjoying the city views as we go. We'll skate for a few hours before walking back to the train. Don't forget spending money!\n\n	 \n\n	Fee : $12 Metra ticket\; $12 skate rental \n\n	Time: 11 a.m.   5:15 p.m.\n\n	Location: Elmhurst Metra Station\n\n	Ages 11-16
X-ALT-DESC;FMTTYPE=text/html:<p class="MsoNormal" style="margin: 0in 0in 0pt">\n	<span style="line-height: 115%\; font-family: 'cambria'\, 'serif'\; font-size: 12pt\; mso-ascii-theme-font: major-latin\; mso-hansi-theme-font: major-latin"><font color="#000000">Grab your skates and scarves and hop on the train! We&rsquo\;ll meet at the Elmhurst Metra and travel downtown to ice skate at Millennium Park. We&rsquo\;ll walk from Ogilvie Center through the Loop\, enjoying the city views as we go. We&rsquo\;ll skate for a few hours before walking back to the train. Don&rsquo\;t forget spending money!<o:p></o:p></font></span></p>\n<p class="MsoNormal" style="margin: 0in 0in 0pt">\n	<span style="line-height: 115%\; font-family: 'cambria'\, 'serif'\; font-size: 12pt\; mso-ascii-theme-font: major-latin\; mso-hansi-theme-font: major-latin"><o:p><font color="#000000">&nbsp\;</font></o:p></span></p>\n<p class="MsoNormal" style="margin: 0in 0in 0pt">\n	<span style="line-height: 115%\; font-family: 'cambria'\, 'serif'\; font-size: 12pt\; mso-ascii-theme-font: major-latin\; mso-hansi-theme-font: major-latin"><font color="#000000">Fee : $12 Metra ticket\; $12 skate rental <o:p></o:p></font></span></p>\n<p class="MsoNormal" style="margin: 0in 0in 0pt">\n	<span style="line-height: 115%\; font-family: 'cambria'\, 'serif'\; font-size: 12pt\; mso-ascii-theme-font: major-latin\; mso-hansi-theme-font: major-latin"><font color="#000000">Time: 11 a.m. &ndash\; 5:15 p.m.<o:p></o:p></font></span></p>\n<p class="MsoNormal" style="margin: 0in 0in 0pt">\n	<span style="line-height: 115%\; font-family: 'cambria'\, 'serif'\; font-size: 12pt\; mso-ascii-theme-font: major-latin\; mso-hansi-theme-font: major-latin"><font color="#000000">Location: Elmhurst Metra Station<br />\n	Ages 11-16</font></span></p>\n
LOCATION:Elmhurst Metra Station 128 W. 1st St. (at York Rd.)
UID:e.333.4915
SEQUENCE:3
DTSTAMP:20260424T132045Z
URL:https://chambermaster.elmhurstchamber.org/events/details/millennium-park-ice-skating-12-08-2012-4915
END:VEVENT

END:VCALENDAR
