BEGIN:VCALENDAR
VERSION:2.0
PRODID:-//ChamberMaster//Event Calendar 2.0//EN
METHOD:PUBLISH
X-PUBLISHED-TTL:P3D
REFRESH-INTERVAL:P3D
CALSCALE:GREGORIAN
BEGIN:VEVENT
DTSTART:20130426T224500Z
DTEND:20130427T014500Z
X-MICROSOFT-CDO-ALLDAYEVENT:FALSE
SUMMARY:MLB Pitch\, Hit and Run Competition
DESCRIPTION:Ages 7-14\n\nThis FREE one-day event allows participants to compete in three different events - Pitching\, Running and Hitting.  The winner of EACH age and gender group will advance to the Sectional competition with an opportunity of earning a way into the national finals which will be held at MLB All Star week in New York\, NY.  The age groups are 7/8\, 9/10\, 11/12\, 13/14 as of July 12\, 2013
X-ALT-DESC;FMTTYPE=text/html:Ages 7-14<br />\nThis FREE one-day event&nbsp\;allows participants to compete in three different events - Pitching\, Running and Hitting.&nbsp\; The winner of EACH age and gender group will advance to the Sectional competition with an opportunity of earning a way into the national finals which will be held at MLB All Star week in New York\, NY.&nbsp\; The age groups are 7/8\, 9/10\, 11/12\, 13/14 as of July 12\, 2013
LOCATION:Berens Park Diamond 04
UID:e.333.5205
SEQUENCE:3
DTSTAMP:20260422T194152Z
URL:https://chambermaster.elmhurstchamber.org/events/details/mlb-pitch-hit-and-run-competition-04-26-2013-5205
END:VEVENT

END:VCALENDAR
