BEGIN:VCALENDAR
VERSION:2.0
PRODID:-//ChamberMaster//Event Calendar 2.0//EN
METHOD:PUBLISH
X-PUBLISHED-TTL:P3D
REFRESH-INTERVAL:P3D
CALSCALE:GREGORIAN
BEGIN:VEVENT
DTSTART:20130402T143000Z
DTEND:20130521T153000Z
X-MICROSOFT-CDO-ALLDAYEVENT:FALSE
SUMMARY:Mom and Baby Boot Camp
DESCRIPTION:Ages 17 and older\n\n	A postpartum health and fitness routine is the best way for new moms to regain their confidence\, their energy and their figures.  The camp combines strength training and cardiovascular exercises\, incorporating babies and strollers into the workout as much as possible\, offering a great bonding opportunity for mom and baby.
X-ALT-DESC;FMTTYPE=text/html:<p class="MsoNormal" style="margin: 0in 0in 0pt 0.1in\;">\n	<span style="font-size: 10pt\;"><font color="#000000"><font face="Calibri">Ages 17 and older<o:p></o:p></font></font></span></p>\n<p class="MsoNormal" style="margin: 0in 0in 0pt 0.1in\;">\n	<span style="font-size: 10pt\;"><font color="#000000"><font face="Calibri">A postpartum health and fitness routine is the best way for new moms to regain their confidence\, their energy and their figures.<span style="mso-spacerun: yes\;">&nbsp\; </span>The camp combines strength training and cardiovascular exercises\, incorporating babies and strollers into the workout as much as possible\, offering a great bonding opportunity for mom and baby.<o:p></o:p></font></font></span></p>\n
LOCATION:Courts Plus
UID:e.333.5211
SEQUENCE:3
DTSTAMP:20260422T180629Z
URL:https://chambermaster.elmhurstchamber.org/events/details/mom-and-baby-boot-camp-04-02-2013-5211
END:VEVENT

END:VCALENDAR
