BEGIN:VCALENDAR
VERSION:2.0
PRODID:-//ChamberMaster//Event Calendar 2.0//EN
METHOD:PUBLISH
X-PUBLISHED-TTL:P3D
REFRESH-INTERVAL:P3D
CALSCALE:GREGORIAN
BEGIN:VEVENT
DTSTART:20130918T153000Z
DTEND:20130918T190000Z
X-MICROSOFT-CDO-ALLDAYEVENT:FALSE
SUMMARY:Mulit-Chamber Job Fair
DESCRIPTION:A Multi-Chamber Job Fair co-sponsored by State Senator Tom Cullerton and the Illinois Department of Employment Security will be held on Wednesday\, September 18\, from 10:30 a.m. to 2 p.m. at The Odeum\, located at 1033 N. Villa Avenue in Villa Park.  \n\n\n\nThere will be early admission for Veterans at 10 a.m. \n\n\n\nTo register for the Job Fair\, visit www.senatortomcullerton.com or call 630-903-6662.\n\n\n\nThis Job Fair is co-hosted by:\n\n\n\nAddison Chamber of Commerce & Industry\n\nBartlett Chamber of Commerce\n\nChoose DuPage Economic Development Alliance\n\nElmhurst Chamber of Commerce & Industry\n\nGlendale Heights Chamber of Commerce\n\nRoselle Chamber of Commerce & Industry\n\nVilla Park Chamber of Commerce
X-ALT-DESC;FMTTYPE=text/html:A <a href="http://www.senatortomcullerton.com/">Multi-Chamber Job Fair </a>co-sponsored by <a href="http://chambermaster.elmhurstchamber.org/list/member/state-senator-tom-cullerton-4745">State Senator Tom Cullerton </a>and the Illinois Department of Employment Security will be held&nbsp\;on Wednesday\, September 18\, from 10:30 a.m. to 2 p.m.&nbsp\;at <a href="http://chambermaster.elmhurstchamber.org/list/member/odeum-the-villa-park-3099">The Odeum</a>\, located at 1033 N. Villa Avenue&nbsp\;in Villa Park.&nbsp\;&nbsp\;<br />\n<br />\nThere will be early admission for Veterans at 10 a.m.&nbsp\;<br />\n<br />\nTo register for the Job Fair\, visit <a href="http://www.senatortomcullerton.com">www.senatortomcullerton.com </a>or call 630-903-6662.<br />\n<br />\nThis Job Fair is co-hosted by:<br />\n<br />\nAddison Chamber of Commerce &amp\; Industry<br />\nBartlett Chamber of Commerce<br />\nChoose DuPage Economic Development Alliance<br />\nElmhurst Chamber of Commerce &amp\; Industry<br />\nGlendale Heights Chamber of Commerce<br />\nRoselle Chamber of Commerce &amp\; Industry<br />\nVilla Park Chamber of Commerce<br />\n
LOCATION:Odeum 1033 N. Villa Ave. Villa Park
UID:e.333.5590
SEQUENCE:3
DTSTAMP:20260422T112528Z
URL:https://chambermaster.elmhurstchamber.org/events/details/mulit-chamber-job-fair-09-18-2013-5590
END:VEVENT

END:VCALENDAR
