BEGIN:VCALENDAR
VERSION:2.0
PRODID:-//ChamberMaster//Event Calendar 2.0//EN
METHOD:PUBLISH
X-PUBLISHED-TTL:P3D
REFRESH-INTERVAL:P3D
CALSCALE:GREGORIAN
BEGIN:VEVENT
DTSTART:20110830T143000Z
DTEND:20110830T163000Z
X-MICROSOFT-CDO-ALLDAYEVENT:FALSE
SUMMARY:Multi-Chamber "A Spirit of Enterprise Award Summit"
DESCRIPTION:U.S. Congressman Peter Roskam (R-6th District) will give his impression of the first session of the 111th Congress.  Serving on the Ways and Means Committee and named Chief Deputy Whip of the Republicans\, Peter Roskam will share his unique perspective on events. \n\n\n\nHe will receive the U.S. Chamber's Spirit of Enterprise Award for voting on support of the Chamber's position on select legislation a minimum of 70% of the time during the first session of the 111th Congress.\n\n\n\nParticipating Chambers:  Arlington Heights\, Bloomingdale\, Buffalo Grove\, Carol Stream\, Des Plaines\, Elk Grove\, Elmhurst\, Glen Ellyn\, Greater O'Hare\, Itasca\, Mount Prospect\, Palatine\, Park Ridge\, Rolling Meadows\, Wheaton\, Wheeling/Prospect Heights
X-ALT-DESC;FMTTYPE=text/html:U.S. Congressman Peter Roskam (R-6th District) will give his impression of the first session of the 111th Congress.&nbsp\; Serving on the Ways and Means Committee and named Chief Deputy Whip of the Republicans\, Peter Roskam will share his unique perspective on events.&nbsp\;<br />\n<br />\nHe will receive the U.S. Chamber&#39\;s Spirit of Enterprise Award for voting on support of the Chamber&#39\;s position on select legislation a minimum of 70% of the time during the first session of the 111th Congress.<br />\n<br />\nParticipating Chambers:&nbsp\; Arlington Heights\, Bloomingdale\,&nbsp\;Buffalo Grove\, Carol Stream\, Des Plaines\, Elk Grove\, Elmhurst\, Glen Ellyn\, Greater O&#39\;Hare\, Itasca\, Mount Prospect\, Palatine\, Park Ridge\, Rolling Meadows\, Wheaton\, Wheeling/Prospect Heights
LOCATION:WESTIN Hotel 400 Park Blvd Itasca\, IL
UID:e.333.4262
SEQUENCE:3
DTSTAMP:20260425T151439Z
URL:https://chambermaster.elmhurstchamber.org/events/details/multi-chamber-a-spirit-of-enterprise-award-summit-08-30-2011-4262
END:VEVENT

END:VCALENDAR
