BEGIN:VCALENDAR
VERSION:2.0
PRODID:-//ChamberMaster//Event Calendar 2.0//EN
METHOD:PUBLISH
X-PUBLISHED-TTL:P3D
REFRESH-INTERVAL:P3D
CALSCALE:GREGORIAN
BEGIN:VEVENT
DTSTART:20110630T183000Z
DTEND:20110701T000000Z
X-MICROSOFT-CDO-ALLDAYEVENT:FALSE
SUMMARY:Multi-Chamber Golf Outing
DESCRIPTION:The Multi-Chamber Golf Outing will be held with the Elmhurst Chamber of Commerce and the Bensenville Chamber of Commerce.\n\n	\n\n	Click Here to view event program.\n\n	\n\n	Click Here for the 2011 Golf Outing pamphlet with sponsorship and registration information. \n\n	Golfer Amenities\n\n	          Thursday afternoon of fun and friendship\n\n	          Cash-Prize Putting Contest (lowest three-hole score)\n\n	          18 Holes of Golf with Cart\n\n	          Complimentary Beverage On-Course and at 19th Hole\n\n	          19th Hole Buffet Dinner\n\n	          Team Golf Awards (male\, female and co-ed)\n\n	          Individual Golf Awards (putting and driving)\n\n	          Wine and Dine Raffle\n\n	          Split-the-Pot Ball Drop\n\n	          Silent Auction\n\n	 \n\n	 Sponsorship Amenities\n\n	 Premium Sponsor (cash or GIK) $1\,500\n\n	          Exposure at event registration and on the course\;\n\n	          Special recognition during 19th Hole program\;\n\n	          Exclusive hole sponsorship with tee and green signage\;\n\n	          At-the-hole promotional opportunities\; and \n\n	          Logo recognition on premium giveaway.\n\n	 Golf Cart Sponsor $1\,000\n\n	          Exposure at event registration and on the course\;\n\n	          Special recognition during 19th Hole program\;\n\n	          Exclusive hole sponsorship with tee and green signage\; \n\n	          At-the-hole promotional opportunities\; and\n\n	          Logo signage on up to 48 golf carts.\n\n	 Corporate Sponsors $1\,000\n\n	          Exposure at event registration and on the course\;\n\n	          Special recognition during 19th Hole program\;\n\n	          Exclusive hole sponsorship with tee and green signage\; \n\n	          At-the-hole promotional opportunities\;\n\n	          4-some for 18 holes of golf with cart\;\n\n	          4 tickets for complimentary lunch\; and\n\n	          4 tickets for complimentary 19th Hole dinner.\n\n	 Putting Contest Sponsor $500\n\n	          Exclusive sponsorship of putting contest\n\n	        with practice  green signage and promotional \n\n	        opportunities\; and\n\n	          2 tickets for complimentary lunch.\n\n	 Complimentary Beverage Sponsors $500\n\n	          Special recognition via drink ticket and signage either on-course or at 19th Hole.\n\n	 Full Hole Sponsors $400\n\n	                            (Tee or Green Only\, $250)\n\n	          Full hole sponsorship with tee and green signage\; \n\n	          At-the-hole promotional opportunities\; and.\n\n	          2 tickets for complimentary lunch.
X-ALT-DESC;FMTTYPE=text/html:<p align="left">\n	<span style="font-size: 10px"><span style="font-family: arial">The Multi-Chamber Golf Outing will be held with the Elmhurst Chamber of Commerce and the Bensenville Chamber of Commerce.<br />\n	<br />\n	<a href="http://cloud.chambermaster.com/userfiles/UserFiles/chambers/333/File/prg%20Cover2011.pdf">Click Here</a> to view event program.<br />\n	<br />\n	<a href="http://cloud.chambermaster.com/userfiles/UserFiles/chambers/333/File/GolfFlyer.MultiChamber.mailer.BCC.pdf">Click Here</a>&nbsp\;for the 2011 Golf Outing pamphlet with sponsorship and registration information.&nbsp\;</span></span></p>\n<p class="MsoPlainText" style="text-align: justify\; margin: 0in 0in 0pt">\n	<span style="font-size: 10px"><span style="font-family: arial"><b><span style="color: navy\; mso-bidi-font-size: 16.0pt\; mso-fareast-font-family: 'ms mincho'"><b><span style="color: navy\; mso-bidi-font-size: 16.0pt\; mso-fareast-font-family: 'ms mincho'">Golfer Amenities</span></b></span></b></span></span></p>\n<p class="MsoPlainText" style="text-align: justify\; text-indent: -0.25in\; margin: 0in 0in 0pt 0.25in\; mso-list: l0 level1 lfo1">\n	<span style="font-size: 10px"><span style="font-family: arial"><b><span style="color: navy\; mso-bidi-font-size: 16.0pt\; mso-fareast-font-family: 'ms mincho'"><font color="#000000"><span style="mso-fareast-font-family: 'ms mincho'\; mso-bidi-font-family: arial">&middot\;<span style="line-height: normal\; font-variant: normal\; font-style: normal\; font-weight: normal">&nbsp\;&nbsp\;&nbsp\;&nbsp\;&nbsp\;&nbsp\;&nbsp\;&nbsp\; </span></span><span style="mso-fareast-font-family: 'ms mincho'">Thursday afternoon of fun and friendship</span></font></span></b></span></span></p>\n<p class="MsoPlainText" style="text-align: justify\; text-indent: -0.25in\; margin: 0in 0in 0pt 0.25in\; mso-list: l0 level1 lfo1">\n	<span style="font-size: 10px"><span style="font-family: arial"><b><span style="color: navy\; mso-bidi-font-size: 16.0pt\; mso-fareast-font-family: 'ms mincho'"><font color="#000000"><span style="mso-fareast-font-family: 'ms mincho'\; mso-bidi-font-family: arial">&middot\;<span style="line-height: normal\; font-variant: normal\; font-style: normal\; font-weight: normal">&nbsp\;&nbsp\;&nbsp\;&nbsp\;&nbsp\;&nbsp\;&nbsp\;&nbsp\; </span></span><span style="mso-fareast-font-family: 'ms mincho'">Cash-Prize Putting Contest (lowest three-hole score)</span></font></span></b></span></span></p>\n<p class="MsoPlainText" style="text-align: justify\; text-indent: -0.25in\; margin: 0in 0in 0pt 0.25in\; mso-list: l0 level1 lfo1">\n	<span style="font-size: 10px"><span style="font-family: arial"><b><span style="color: navy\; mso-bidi-font-size: 16.0pt\; mso-fareast-font-family: 'ms mincho'"><font color="#000000"><span style="mso-fareast-font-family: 'ms mincho'\; mso-bidi-font-family: arial">&middot\;<span style="line-height: normal\; font-variant: normal\; font-style: normal\; font-weight: normal">&nbsp\;&nbsp\;&nbsp\;&nbsp\;&nbsp\;&nbsp\;&nbsp\;&nbsp\; </span></span><span style="mso-fareast-font-family: 'ms mincho'">18 Holes of Golf with Cart</span></font></span></b></span></span></p>\n<p class="MsoPlainText" style="text-align: justify\; text-indent: -0.25in\; margin: 0in 0in 0pt 0.25in\; mso-list: l0 level1 lfo1">\n	<span style="font-size: 10px"><span style="font-family: arial"><b><span style="color: navy\; mso-bidi-font-size: 16.0pt\; mso-fareast-font-family: 'ms mincho'"><font color="#000000"><span style="mso-fareast-font-family: 'ms mincho'\; mso-bidi-font-family: arial">&middot\;<span style="line-height: normal\; font-variant: normal\; font-style: normal\; font-weight: normal">&nbsp\;&nbsp\;&nbsp\;&nbsp\;&nbsp\;&nbsp\;&nbsp\;&nbsp\; </span></span><span style="mso-fareast-font-family: 'ms mincho'">Complimentary Beverage On-Course and at 19th Hole</span></font></span></b></span></span></p>\n<p class="MsoPlainText" style="text-align: justify\; text-indent: -0.25in\; margin: 0in 0in 0pt 0.25in\; mso-list: l0 level1 lfo1">\n	<span style="font-size: 10px"><span style="font-family: arial"><b><span style="color: navy\; mso-bidi-font-size: 16.0pt\; mso-fareast-font-family: 'ms mincho'"><font color="#000000"><span style="mso-fareast-font-family: 'ms mincho'\; mso-bidi-font-family: arial">&middot\;<span style="line-height: normal\; font-variant: normal\; font-style: normal\; font-weight: normal">&nbsp\;&nbsp\;&nbsp\;&nbsp\;&nbsp\;&nbsp\;&nbsp\;&nbsp\; </span></span><span style="mso-fareast-font-family: 'ms mincho'">19th Hole Buffet Dinner</span></font></span></b></span></span></p>\n<p class="MsoPlainText" style="text-align: justify\; text-indent: -0.25in\; margin: 0in 0in 0pt 0.25in\; mso-list: l0 level1 lfo1">\n	<span style="font-size: 10px"><span style="font-family: arial"><b><span style="color: navy\; mso-bidi-font-size: 16.0pt\; mso-fareast-font-family: 'ms mincho'"><font color="#000000"><span style="mso-fareast-font-family: 'ms mincho'\; mso-bidi-font-family: arial">&middot\;<span style="line-height: normal\; font-variant: normal\; font-style: normal\; font-weight: normal">&nbsp\;&nbsp\;&nbsp\;&nbsp\;&nbsp\;&nbsp\;&nbsp\;&nbsp\; </span></span><span style="mso-fareast-font-family: 'ms mincho'">Team Golf Awards (male\, female and co-ed)</span></font></span></b></span></span></p>\n<p class="MsoPlainText" style="text-align: justify\; text-indent: -0.25in\; margin: 0in 0in 0pt 0.25in\; mso-list: l0 level1 lfo1">\n	<span style="font-size: 10px"><span style="font-family: arial"><b><span style="color: navy\; mso-bidi-font-size: 16.0pt\; mso-fareast-font-family: 'ms mincho'"><font color="#000000"><span style="mso-fareast-font-family: 'ms mincho'\; mso-bidi-font-family: arial">&middot\;<span style="line-height: normal\; font-variant: normal\; font-style: normal\; font-weight: normal">&nbsp\;&nbsp\;&nbsp\;&nbsp\;&nbsp\;&nbsp\;&nbsp\;&nbsp\; </span></span><span style="mso-fareast-font-family: 'ms mincho'">Individual Golf Awards (putting and driving)</span></font></span></b></span></span></p>\n<p class="MsoPlainText" style="text-align: justify\; text-indent: -0.25in\; margin: 0in 0in 0pt 0.25in\; mso-list: l0 level1 lfo1">\n	<span style="font-size: 10px"><span style="font-family: arial"><b><span style="color: navy\; mso-bidi-font-size: 16.0pt\; mso-fareast-font-family: 'ms mincho'"><font color="#000000"><span style="mso-fareast-font-family: 'ms mincho'\; mso-bidi-font-family: arial">&middot\;<span style="line-height: normal\; font-variant: normal\; font-style: normal\; font-weight: normal">&nbsp\;&nbsp\;&nbsp\;&nbsp\;&nbsp\;&nbsp\;&nbsp\;&nbsp\; </span></span><span style="mso-fareast-font-family: 'ms mincho'">Wine and Dine Raffle</span></font></span></b></span></span></p>\n<p class="MsoPlainText" style="text-align: justify\; text-indent: -0.25in\; margin: 0in 0in 0pt 0.25in\; mso-list: l0 level1 lfo1">\n	<span style="font-size: 10px"><span style="font-family: arial"><b><span style="color: navy\; mso-bidi-font-size: 16.0pt\; mso-fareast-font-family: 'ms mincho'"><font color="#000000"><span style="mso-fareast-font-family: 'ms mincho'\; mso-bidi-font-family: arial">&middot\;<span style="line-height: normal\; font-variant: normal\; font-style: normal\; font-weight: normal">&nbsp\;&nbsp\;&nbsp\;&nbsp\;&nbsp\;&nbsp\;&nbsp\;&nbsp\; </span></span><span style="mso-fareast-font-family: 'ms mincho'">Split-the-Pot Ball Drop</span></font></span></b></span></span></p>\n<p class="MsoPlainText" style="text-align: justify\; text-indent: -0.25in\; margin: 0in 0in 0pt 0.25in\; mso-list: l0 level1 lfo1">\n	<span style="font-size: 10px"><span style="font-family: arial"><b><span style="color: navy\; mso-bidi-font-size: 16.0pt\; mso-fareast-font-family: 'ms mincho'"><font color="#000000"><span style="mso-bidi-font-size: 12.0pt\; mso-bidi-font-family: arial\; mso-font-kerning: 0pt">&middot\;<span style="line-height: normal\; font-variant: normal\; font-style: normal\; font-weight: normal">&nbsp\;&nbsp\;&nbsp\;&nbsp\;&nbsp\;&nbsp\;&nbsp\;&nbsp\; </span></span><span style="mso-fareast-font-family: 'ms mincho'">Silent Auction</span></font></span></b></span></span></p>\n<p class="MsoNormal" style="text-align: justify\; margin: 0in 0in 0pt">\n	<span style="font-size: 10px"><span style="font-family: arial"><b><span style="color: navy\; mso-bidi-font-size: 16.0pt\; mso-fareast-font-family: 'ms mincho'"><span style="mso-bidi-font-size: 12.0pt"><font color="#000000">&nbsp\;</font></span></span></b></span></span></p>\n<p class="MsoNormal" style="text-align: justify\; margin: 0in 0in 0pt">\n	<span style="font-size: 10px"><span style="font-family: arial"><b><span style="color: navy\; mso-bidi-font-size: 16.0pt\; mso-fareast-font-family: 'ms mincho'"><span style="mso-bidi-font-size: 12.0pt"><font color="#000000">&nbsp\;</font></span></span></b></span></span><span style="font-size: 10px"><span style="font-family: arial"><b><span style="color: navy\; mso-bidi-font-size: 16.0pt\; mso-fareast-font-family: 'ms mincho'">Sponsorship Amenities</span></b></span></span></p>\n<p class="MsoPlainText" style="text-align: justify\; margin: 0in 0in 0pt\; tab-stops: 242.25pt">\n	<span style="font-size: 10px"><span style="font-family: arial"><span style="color: black\; mso-bidi-font-size: 6.0pt\; mso-fareast-font-family: 'ms mincho'">&nbsp\;</span></span></span><span style="font-size: 10px"><span style="font-family: arial"><b><span style="color: black\; mso-fareast-font-family: 'ms mincho'">Premium Sponsor <i>(cash or GIK)</i>&mdash\;$1\,500</span></b></span></span></p>\n<p class="MsoPlainText" style="text-align: justify\; text-indent: -0.25in\; margin: 0in 0in 0pt 0.25in\; mso-list: l0 level1 lfo1">\n	<span style="font-size: 10px"><span style="font-family: arial"><font color="#000000"><span style="mso-bidi-font-size: 8.0pt\; mso-bidi-font-family: arial">&middot\;<span style="line-height: normal\; font-variant: normal\; font-style: normal\; font-weight: normal">&nbsp\;&nbsp\;&nbsp\;&nbsp\;&nbsp\;&nbsp\;&nbsp\;&nbsp\; </span></span><span style="mso-bidi-font-size: 8.0pt">Exposure at event registration and on the course\;</span></font></span></span></p>\n<p class="MsoPlainText" style="text-align: justify\; text-indent: -0.25in\; margin: 0in 0in 0pt 0.25in\; mso-list: l0 level1 lfo1">\n	<span style="font-size: 10px"><span style="font-family: arial"><font color="#000000"><span style="mso-bidi-font-size: 8.0pt\; mso-bidi-font-family: arial">&middot\;<span style="line-height: normal\; font-variant: normal\; font-style: normal\; font-weight: normal">&nbsp\;&nbsp\;&nbsp\;&nbsp\;&nbsp\;&nbsp\;&nbsp\;&nbsp\; </span></span><span style="mso-bidi-font-size: 8.0pt">Special recognition during 19th Hole program\;</span></font></span></span></p>\n<p class="MsoPlainText" style="text-align: justify\; text-indent: -0.25in\; margin: 0in 0in 0pt 0.25in\; mso-list: l0 level1 lfo1">\n	<span style="font-size: 10px"><span style="font-family: arial"><font color="#000000"><span style="mso-bidi-font-size: 8.0pt\; mso-bidi-font-family: arial">&middot\;<span style="line-height: normal\; font-variant: normal\; font-style: normal\; font-weight: normal">&nbsp\;&nbsp\;&nbsp\;&nbsp\;&nbsp\;&nbsp\;&nbsp\;&nbsp\; </span></span><span style="mso-bidi-font-size: 8.0pt">Exclusive hole sponsorship with tee and green signage\;</span></font></span></span></p>\n<p class="MsoPlainText" style="text-align: justify\; text-indent: -0.25in\; margin: 0in 0in 0pt 0.25in\; mso-list: l0 level1 lfo1">\n	<span style="font-size: 10px"><span style="font-family: arial"><font color="#000000"><span style="mso-bidi-font-size: 8.0pt\; mso-bidi-font-family: arial">&middot\;<span style="line-height: normal\; font-variant: normal\; font-style: normal\; font-weight: normal">&nbsp\;&nbsp\;&nbsp\;&nbsp\;&nbsp\;&nbsp\;&nbsp\;&nbsp\; </span></span><span style="mso-bidi-font-size: 8.0pt">At-the-hole promotional opportunities\; and </span></font></span></span></p>\n<p class="MsoPlainText" style="text-align: justify\; text-indent: -0.25in\; margin: 0in 0in 0pt 0.25in\; mso-list: l0 level1 lfo1">\n	<span style="font-size: 10px"><span style="font-family: arial"><font color="#000000"><span style="mso-bidi-font-size: 8.0pt\; mso-bidi-font-family: arial">&middot\;<span style="line-height: normal\; font-variant: normal\; font-style: normal\; font-weight: normal">&nbsp\;&nbsp\;&nbsp\;&nbsp\;&nbsp\;&nbsp\;&nbsp\;&nbsp\; </span></span><span style="mso-bidi-font-size: 8.0pt">Logo recognition on premium giveaway.</span></font></span></span></p>\n<p class="MsoPlainText" style="text-align: justify\; margin: 0in 0in 0pt\; tab-stops: 242.25pt">\n	<span style="font-size: 10px"><span style="font-family: arial"><span style="color: black\; mso-bidi-font-size: 6.0pt\; mso-fareast-font-family: 'ms mincho'">&nbsp\;</span></span></span><span style="font-size: 10px"><span style="font-family: arial"><b><span style="color: black\; mso-fareast-font-family: 'ms mincho'">Golf Cart Sponsor&mdash\;$1\,000</span></b></span></span></p>\n<p class="MsoPlainText" style="text-align: justify\; text-indent: -0.25in\; margin: 0in 0in 0pt 0.25in\; mso-list: l0 level1 lfo1">\n	<span style="font-size: 10px"><span style="font-family: arial"><font color="#000000"><span style="mso-bidi-font-size: 8.0pt\; mso-bidi-font-family: arial">&middot\;<span style="line-height: normal\; font-variant: normal\; font-style: normal\; font-weight: normal">&nbsp\;&nbsp\;&nbsp\;&nbsp\;&nbsp\;&nbsp\;&nbsp\;&nbsp\; </span></span><span style="mso-bidi-font-size: 8.0pt">Exposure at event registration and on the course\;</span></font></span></span></p>\n<p class="MsoPlainText" style="text-align: justify\; text-indent: -0.25in\; margin: 0in 0in 0pt 0.25in\; mso-list: l0 level1 lfo1">\n	<span style="font-size: 10px"><span style="font-family: arial"><font color="#000000"><span style="mso-bidi-font-size: 8.0pt\; mso-bidi-font-family: arial">&middot\;<span style="line-height: normal\; font-variant: normal\; font-style: normal\; font-weight: normal">&nbsp\;&nbsp\;&nbsp\;&nbsp\;&nbsp\;&nbsp\;&nbsp\;&nbsp\; </span></span><span style="mso-bidi-font-size: 8.0pt">Special recognition during 19th Hole program\;</span></font></span></span></p>\n<p class="MsoPlainText" style="text-align: justify\; text-indent: -0.25in\; margin: 0in 0in 0pt 0.25in\; mso-list: l0 level1 lfo1">\n	<span style="font-size: 10px"><span style="font-family: arial"><font color="#000000"><span style="mso-bidi-font-size: 8.0pt\; mso-bidi-font-family: arial">&middot\;<span style="line-height: normal\; font-variant: normal\; font-style: normal\; font-weight: normal">&nbsp\;&nbsp\;&nbsp\;&nbsp\;&nbsp\;&nbsp\;&nbsp\;&nbsp\; </span></span><span style="mso-bidi-font-size: 8.0pt">Exclusive hole sponsorship with tee and green signage\; </span></font></span></span></p>\n<p class="MsoPlainText" style="text-align: justify\; text-indent: -0.25in\; margin: 0in 0in 0pt 0.25in\; mso-list: l0 level1 lfo1">\n	<span style="font-size: 10px"><span style="font-family: arial"><font color="#000000"><span style="mso-bidi-font-size: 8.0pt\; mso-bidi-font-family: arial">&middot\;<span style="line-height: normal\; font-variant: normal\; font-style: normal\; font-weight: normal">&nbsp\;&nbsp\;&nbsp\;&nbsp\;&nbsp\;&nbsp\;&nbsp\;&nbsp\; </span></span><span style="mso-bidi-font-size: 8.0pt">At-the-hole promotional opportunities\; and</span></font></span></span></p>\n<p class="MsoPlainText" style="text-align: justify\; text-indent: -0.25in\; margin: 0in 0in 0pt 0.25in\; mso-list: l0 level1 lfo1">\n	<span style="font-size: 10px"><span style="font-family: arial"><font color="#000000"><span style="mso-bidi-font-size: 8.0pt\; mso-fareast-font-family: 'ms mincho'\; mso-bidi-font-family: arial">&middot\;<span style="line-height: normal\; font-variant: normal\; font-style: normal\; font-weight: normal">&nbsp\;&nbsp\;&nbsp\;&nbsp\;&nbsp\;&nbsp\;&nbsp\;&nbsp\; </span></span><span style="mso-bidi-font-size: 8.0pt">Logo signage on up to 48 golf carts.</span></font></span></span></p>\n<p class="MsoPlainText" style="text-align: justify\; margin: 0in 0in 0pt\; tab-stops: 242.25pt">\n	<span style="font-size: 10px"><span style="font-family: arial"><span style="color: black\; mso-bidi-font-size: 6.0pt\; mso-fareast-font-family: 'ms mincho'">&nbsp\;</span></span></span><span style="font-size: 10px"><span style="font-family: arial"><b><span style="color: black\; mso-fareast-font-family: 'ms mincho'">Corporate Sponsors&mdash\;$1\,000</span></b></span></span></p>\n<p class="MsoPlainText" style="text-align: justify\; text-indent: -0.25in\; margin: 0in 0in 0pt 0.25in\; mso-list: l0 level1 lfo1">\n	<span style="font-size: 10px"><span style="font-family: arial"><font color="#000000"><span style="mso-bidi-font-size: 8.0pt\; mso-bidi-font-family: arial">&middot\;<span style="line-height: normal\; font-variant: normal\; font-style: normal\; font-weight: normal">&nbsp\;&nbsp\;&nbsp\;&nbsp\;&nbsp\;&nbsp\;&nbsp\;&nbsp\; </span></span><span style="mso-bidi-font-size: 8.0pt">Exposure at event registration and on the course\;</span></font></span></span></p>\n<p class="MsoPlainText" style="text-align: justify\; text-indent: -0.25in\; margin: 0in 0in 0pt 0.25in\; mso-list: l0 level1 lfo1">\n	<span style="font-size: 10px"><span style="font-family: arial"><font color="#000000"><span style="mso-bidi-font-size: 8.0pt\; mso-bidi-font-family: arial">&middot\;<span style="line-height: normal\; font-variant: normal\; font-style: normal\; font-weight: normal">&nbsp\;&nbsp\;&nbsp\;&nbsp\;&nbsp\;&nbsp\;&nbsp\;&nbsp\; </span></span><span style="mso-bidi-font-size: 8.0pt">Special recognition during 19th Hole program\;</span></font></span></span></p>\n<p class="MsoPlainText" style="text-align: justify\; text-indent: -0.25in\; margin: 0in 0in 0pt 0.25in\; mso-list: l0 level1 lfo1">\n	<span style="font-size: 10px"><span style="font-family: arial"><font color="#000000"><span style="mso-bidi-font-size: 8.0pt\; mso-bidi-font-family: arial">&middot\;<span style="line-height: normal\; font-variant: normal\; font-style: normal\; font-weight: normal">&nbsp\;&nbsp\;&nbsp\;&nbsp\;&nbsp\;&nbsp\;&nbsp\;&nbsp\; </span></span><span style="mso-bidi-font-size: 8.0pt">Exclusive hole sponsorship with tee and green signage\; </span></font></span></span></p>\n<p class="MsoPlainText" style="text-align: justify\; text-indent: -0.25in\; margin: 0in 0in 0pt 0.25in\; mso-list: l0 level1 lfo1">\n	<span style="font-size: 10px"><span style="font-family: arial"><font color="#000000"><span style="mso-bidi-font-size: 8.0pt\; mso-bidi-font-family: arial">&middot\;<span style="line-height: normal\; font-variant: normal\; font-style: normal\; font-weight: normal">&nbsp\;&nbsp\;&nbsp\;&nbsp\;&nbsp\;&nbsp\;&nbsp\;&nbsp\; </span></span><span style="mso-bidi-font-size: 8.0pt">At-the-hole promotional opportunities\;</span></font></span></span></p>\n<p class="MsoPlainText" style="text-align: justify\; text-indent: -0.25in\; margin: 0in 0in 0pt 0.25in\; mso-list: l0 level1 lfo1">\n	<span style="font-size: 10px"><span style="font-family: arial"><font color="#000000"><span style="mso-bidi-font-size: 8.0pt\; mso-bidi-font-family: arial">&middot\;<span style="line-height: normal\; font-variant: normal\; font-style: normal\; font-weight: normal">&nbsp\;&nbsp\;&nbsp\;&nbsp\;&nbsp\;&nbsp\;&nbsp\;&nbsp\; </span></span><span style="mso-bidi-font-size: 8.0pt">4-some for 18 holes of golf with cart\;</span></font></span></span></p>\n<p class="MsoPlainText" style="text-align: justify\; text-indent: -0.25in\; margin: 0in 0in 0pt 0.25in\; mso-list: l0 level1 lfo1">\n	<span style="font-size: 10px"><span style="font-family: arial"><font color="#000000"><span style="mso-bidi-font-size: 8.0pt\; mso-bidi-font-family: arial">&middot\;<span style="line-height: normal\; font-variant: normal\; font-style: normal\; font-weight: normal">&nbsp\;&nbsp\;&nbsp\;&nbsp\;&nbsp\;&nbsp\;&nbsp\;&nbsp\; </span></span><span style="mso-bidi-font-size: 8.0pt">4 tickets for complimentary lunch\; and</span></font></span></span></p>\n<p class="MsoPlainText" style="text-align: justify\; text-indent: -0.25in\; margin: 0in 0in 0pt 0.25in\; mso-list: l0 level1 lfo1">\n	<span style="font-size: 10px"><span style="font-family: arial"><font color="#000000"><span style="mso-bidi-font-size: 8.0pt\; mso-bidi-font-family: arial">&middot\;<span style="line-height: normal\; font-variant: normal\; font-style: normal\; font-weight: normal">&nbsp\;&nbsp\;&nbsp\;&nbsp\;&nbsp\;&nbsp\;&nbsp\;&nbsp\; </span></span><span style="mso-bidi-font-size: 8.0pt">4 tickets for complimentary 19th Hole dinner.</span></font></span></span></p>\n<p class="MsoPlainText" style="text-align: justify\; margin: 0in 0in 0pt\; tab-stops: 242.25pt">\n	<span style="font-size: 10px"><span style="font-family: arial"><span style="color: black\; mso-bidi-font-size: 6.0pt\; mso-fareast-font-family: 'ms mincho'">&nbsp\;</span></span></span><span style="font-size: 10px"><span style="font-family: arial"><b><span style="color: black\; mso-fareast-font-family: 'ms mincho'">Putting Contest Sponsor&mdash\;$500</span></b></span></span></p>\n<p class="MsoPlainText" style="text-align: justify\; text-indent: -0.25in\; margin: 0in 0in 0pt 0.25in\; mso-list: l0 level1 lfo1">\n	<span style="font-size: 10px"><span style="font-family: arial"><font color="#000000"><span style="mso-bidi-font-size: 8.0pt\; mso-bidi-font-family: arial">&middot\;<span style="line-height: normal\; font-variant: normal\; font-style: normal\; font-weight: normal">&nbsp\;&nbsp\;&nbsp\;&nbsp\;&nbsp\;&nbsp\;&nbsp\;&nbsp\; </span></span><span style="mso-bidi-font-size: 8.0pt">Exclusive sponsorship of putting contest</span></font></span></span></p>\n<p class="MsoPlainText" style="text-align: justify\; margin: 0in 0in 0pt">\n	<span style="font-size: 10px"><span style="font-family: arial"><span style="mso-bidi-font-size: 8.0pt"><font color="#000000"><span style="mso-spacerun: yes">&nbsp\;&nbsp\;&nbsp\;&nbsp\;&nbsp\;&nbsp\;&nbsp\; </span>with practice<span style="mso-spacerun: yes">&nbsp\; </span>green signage and promotional </font></span></span></span></p>\n<p class="MsoPlainText" style="text-align: justify\; margin: 0in 0in 0pt">\n	<span style="font-size: 10px"><span style="font-family: arial"><span style="mso-bidi-font-size: 8.0pt"><font color="#000000"><span style="mso-spacerun: yes">&nbsp\;&nbsp\;&nbsp\;&nbsp\;&nbsp\;&nbsp\;&nbsp\; </span>opportunities\; and</font></span></span></span></p>\n<p class="MsoPlainText" style="text-align: justify\; text-indent: -0.25in\; margin: 0in 0in 0pt 0.25in\; mso-list: l0 level1 lfo1">\n	<span style="font-size: 10px"><span style="font-family: arial"><font color="#000000"><span style="mso-bidi-font-size: 8.0pt\; mso-bidi-font-family: arial">&middot\;<span style="line-height: normal\; font-variant: normal\; font-style: normal\; font-weight: normal">&nbsp\;&nbsp\;&nbsp\;&nbsp\;&nbsp\;&nbsp\;&nbsp\;&nbsp\; </span></span><span style="mso-bidi-font-size: 8.0pt">2 tickets for complimentary lunch.</span></font></span></span></p>\n<p class="MsoPlainText" style="text-align: justify\; margin: 0in 0in 0pt">\n	<span style="font-size: 10px"><span style="font-family: arial"><span style="mso-bidi-font-size: 6.0pt"><font color="#000000">&nbsp\;</font></span></span></span><span style="font-size: 10px"><span style="font-family: arial"><b><span style="color: black\; mso-fareast-font-family: 'ms mincho'">Complimentary Beverage Sponsors&mdash\;$500</span></b></span></span></p>\n<p class="MsoPlainText" style="text-align: justify\; text-indent: -0.25in\; margin: 0in 0in 0pt 0.25in\; mso-list: l0 level1 lfo1">\n	<span style="font-size: 10px"><span style="font-family: arial"><font color="#000000"><span style="mso-bidi-font-size: 8.0pt\; mso-bidi-font-family: arial">&middot\;<span style="line-height: normal\; font-variant: normal\; font-style: normal\; font-weight: normal">&nbsp\;&nbsp\;&nbsp\;&nbsp\;&nbsp\;&nbsp\;&nbsp\;&nbsp\; </span></span><span style="mso-bidi-font-size: 8.0pt">Special recognition via drink ticket and signage either on-course or at 19th Hole.</span></font></span></span></p>\n<p class="MsoPlainText" style="text-align: justify\; margin: 0in 0in 0pt">\n	<span style="font-size: 10px"><span style="font-family: arial"><span style="mso-bidi-font-size: 6.0pt"><font color="#000000">&nbsp\;</font></span></span></span><span style="font-size: 10px"><span style="font-family: arial"><b><span style="color: black\; mso-fareast-font-family: 'ms mincho'">Full Hole Sponsors&mdash\;$400</span></b></span></span></p>\n<p class="MsoPlainText" style="text-align: justify\; margin: 0in 0in 0pt">\n	<span style="font-size: 10px"><span style="font-family: arial"><b><span style="color: black\; mso-fareast-font-family: 'ms mincho'"><span style="mso-tab-count: 2">&nbsp\;&nbsp\;&nbsp\;&nbsp\;&nbsp\;&nbsp\;&nbsp\;&nbsp\;&nbsp\;&nbsp\;&nbsp\;&nbsp\;&nbsp\;&nbsp\;&nbsp\;&nbsp\;&nbsp\;&nbsp\;&nbsp\;&nbsp\;&nbsp\;&nbsp\;&nbsp\; </span><span style="mso-spacerun: yes">&nbsp\;&nbsp\;&nbsp\; </span></span></b><span style="color: black\; mso-bidi-font-size: 9.0pt\; mso-fareast-font-family: 'ms mincho'">(Tee or Green Only\, $250)</span></span></span></p>\n<p class="MsoPlainText" style="text-align: justify\; text-indent: -0.25in\; margin: 0in 0in 0pt 0.25in\; mso-list: l0 level1 lfo1">\n	<span style="font-size: 10px"><span style="font-family: arial"><font color="#000000"><span style="mso-bidi-font-size: 8.0pt\; mso-bidi-font-family: arial">&middot\;<span style="line-height: normal\; font-variant: normal\; font-style: normal\; font-weight: normal">&nbsp\;&nbsp\;&nbsp\;&nbsp\;&nbsp\;&nbsp\;&nbsp\;&nbsp\; </span></span><span style="mso-bidi-font-size: 8.0pt">Full hole sponsorship with tee and green signage\; </span></font></span></span></p>\n<p class="MsoPlainText" style="text-align: justify\; text-indent: -0.25in\; margin: 0in 0in 0pt 0.25in\; mso-list: l0 level1 lfo1">\n	<span style="font-size: 10px"><span style="font-family: arial"><font color="#000000"><span style="mso-bidi-font-size: 8.0pt\; mso-bidi-font-family: arial">&middot\;<span style="line-height: normal\; font-variant: normal\; font-style: normal\; font-weight: normal">&nbsp\;&nbsp\;&nbsp\;&nbsp\;&nbsp\;&nbsp\;&nbsp\;&nbsp\; </span></span><span style="mso-bidi-font-size: 8.0pt">At-the-hole promotional opportunities\; and.</span></font></span></span></p>\n<p class="MsoPlainText" style="text-align: justify\; text-indent: -0.25in\; margin: 0in 0in 0pt 0.25in\; mso-list: l0 level1 lfo1">\n	<span style="font-size: 10px"><span style="font-family: arial"><font color="#000000"><span style="mso-bidi-font-size: 8.0pt\; mso-bidi-font-family: arial">&middot\;<span style="line-height: normal\; font-variant: normal\; font-style: normal\; font-weight: normal">&nbsp\;&nbsp\;&nbsp\;&nbsp\;&nbsp\;&nbsp\;&nbsp\;&nbsp\; </span></span><span style="mso-bidi-font-size: 8.0pt">2 tickets for complimentary lunch.</span></font></span></span></p>\n
LOCATION:White Pines Golf Club & Banquets 500 West Jefferson Street Bensenville IL \, 60106
UID:e.333.3709
SEQUENCE:3
DTSTAMP:20260425T173725Z
URL:https://chambermaster.elmhurstchamber.org/events/details/multi-chamber-golf-outing-06-30-2011-3709
END:VEVENT

END:VCALENDAR
